BEGIN_USGS_DOQ_HEADER *
QUADRANGLE_NAME "SHELLY CREEK RIDGE" *
WEST_LONGITUDE -123 52 30.000 *
EAST_LONGITUDE -123 45 0.000 *
NORTH_LATITUDE 42 0 0.000 *
SOUTH_LATITUDE 41 52 30.000 *
PRODUCTION_DATE 2002 4 12 *
RASTER_ORDER LEFT_RIGHT/TOP_BOTTOM *
BAND_ORGANIZATION "SINGLE FILE" *
BAND_CONTENT BLACK&WHITE *
BITS_PER_PIXEL 8 *
SAMPLES_AND_LINES 11095 14577 *
HORIZONTAL_DATUM "NAD83" *
HORIZONTAL_COORDINATE_SYSTEM UTM *
COORDINATE_ZONE 10 *
HORIZONTAL_UNITS METERS *
HORIZONTAL_RESOLUTION 1.00 *
SECONDARY_HORIZONTAL_DATUM "NAD27" *
XY_ORIGIN 427092.175 4650446.590 *
SECONDARY_XY_ORIGIN 427188.540 4650250.483 *
NATION US *
STATE CA *
STATE OR *
NW_QUAD_CORNER_XY 427534.281 4650146.493 *
NE_QUAD_CORNER_XY 437886.595 4650048.255 *
SE_QUAD_CORNER_XY 437765.174 4636169.671 *
SW_QUAD_CORNER_XY 427392.620 4636267.862 *
SECONDARY_NW_QUAD_XY 427532.284 4649932.956 *
SECONDARY_NE_QUAD_XY 437884.883 4649834.716 *
SECONDARY_SE_QUAD_XY 437763.464 4635956.325 *
SECONDARY_SW_QUAD_XY 427390.625 4636054.519 *
RMSE_XY 10.00 *
IMAGE_SOURCE "BLACK & WHITE FILM" *
SOURCE_IMAGE_ID "NAPP 12283-75" *
SOURCE_IMAGE_DATE 2000 8 11 *
SOURCE_IMAGE_ID "NAPP 12282-137" *
SOURCE_IMAGE_DATE 2000 8 11 *
SOURCE_IMAGE_ID "NAPP 12282-135" *
SOURCE_IMAGE_DATE 2000 8 11 *
SOURCE_IMAGE_ID "NAPP 12283-77" *
SOURCE_IMAGE_DATE 2000 8 11 *
SOURCE_DEM_DATE 1999 1 1 *
AGENCY "WESTERN MAPPING CENTER (WMC)" *
PRODUCER "USDA FS REGION 6" *
PRODUCTION_SYSTEM "PIXMAP V1.0 ON I386 LINUX" *
STANDARD_VERSION 1996 12 *
METADATA_DATE 2002 11 22 *
DATA_FILE_SIZE 161742910 *
BYTE_COUNT 11095 * CONTRACTOR "PIXXURES, INC." * * * * * * * * * * * * * * * * * * * * * * * * * * * * * * * * * * * * * * * * * * * * * * * * * * * * * * * * * * * * * * * * * * * * * * * * * * * * * * * * * * * * * * * * *
END_USGS_HEADER *
