BEGIN_USGS_DOQ_HEADER *
QUADRANGLE_NAME "SHELLY CREEK RIDGE" *
QUADRANT NE *
WEST_LONGITUDE -123 48 45.000 *
EAST_LONGITUDE -123 45 0.000 *
NORTH_LATITUDE 42 0 0.000 *
SOUTH_LATITUDE 41 56 15.000 *
PRODUCTION_DATE 2001 5 2 *
RASTER_ORDER LEFT_RIGHT/TOP_BOTTOM *
BAND_ORGANIZATION "SINGLE FILE" *
BAND_CONTENT BLACK&WHITE *
BITS_PER_PIXEL 8 *
SAMPLES_AND_LINES 5940 7604 *
HORIZONTAL_DATUM NAD83 *
HORIZONTAL_COORDINATE_SYSTEM UTM *
COORDINATE_ZONE 10 *
HORIZONTAL_UNITS METERS *
HORIZONTAL_RESOLUTION 1.0 *
SECONDARY_HORIZONTAL_DATUM NAD27 *
XY_ORIGIN 432246.372 4650395.485 *
SECONDARY_XY_ORIGIN 432342.725 4650199.416 *
NATION US *
STATE CA *
STATE OR *
NW_QUAD_CORNER_XY 432710.442 4650095.485 *
NE_QUAD_CORNER_XY 437886.595 4650048.256 *
SE_QUAD_CORNER_XY 437825.847 4643108.926 *
SW_QUAD_CORNER_XY 432644.632 4643156.144 *
SECONDARY_NW_QUAD_XY 432708.590 4649881.947 *
SECONDARY_NE_QUAD_XY 437884.886 4649834.717 *
SECONDARY_SE_QUAD_XY 437824.139 4642895.484 *
SECONDARY_SW_QUAD_XY 432642.781 4642942.703 *
RMSE_XY 0.65 *
IMAGE_SOURCE "BLACK AND WHITE FILM" *
SOURCE_IMAGE_ID "NAPP 10478 60" *
SOURCE_IMAGE_DATE 1998 8 12 *
SOURCE_IMAGE_ID "NAPP 10478 59" *
SOURCE_IMAGE_DATE 1998 8 12 *
SOURCE_IMAGE_ID "NAPP 10478 61" *
SOURCE_IMAGE_DATE 1998 8 12 *
SOURCE_IMAGE_ID "NAPP 10477 88" *
SOURCE_IMAGE_DATE 1998 8 12 *
SOURCE_IMAGE_ID "NAPP 10477 87" *
SOURCE_IMAGE_DATE 1998 8 12 *
SOURCE_IMAGE_ID "NAPP 10477 86" *
SOURCE_IMAGE_DATE 1998 8 12 *
SOURCE_IMAGE_ID "NAPP 10480 133" *
SOURCE_IMAGE_DATE 1998 8 13 *
SOURCE_IMAGE_ID "NAPP 10480 132" *
SOURCE_IMAGE_DATE 1998 8 13 *
SOURCE_IMAGE_ID "NAPP 10480 131" *
SOURCE_IMAGE_DATE 1998 8 13 *
SOURCE_DEM_DATE 1982 1 1 *
AGENCY "WESTERN MAPPING CENTER (WMC)" *
PRODUCER "USDA FS GEOSPATIAL SERVICE AND TECHNOLOGY CENTER" *
PRODUCTION_SYSTEM "ORBIT OR_RECTIFY V.5.2" *
STANDARD_VERSION 1996 12 *
METADATA_DATE 2001 3 29 *
DATA_FILE_SIZE 45173700 *
BYTE_COUNT 5940 * * * * * * * * * * * * * * *
END_USGS_HEADER *
