BEGIN_USGS_DOQ_HEADER *
QUADRANGLE_NAME "SHELLY CREEK RIDGE" *
QUADRANT SW *
WEST_LONGITUDE -123 52 30.000 *
EAST_LONGITUDE -123 48 45.000 *
NORTH_LATITUDE 41 56 15.000 *
SOUTH_LATITUDE 41 52 30.000 *
PRODUCTION_DATE 2001 5 2 *
RASTER_ORDER LEFT_RIGHT/TOP_BOTTOM *
BAND_ORGANIZATION "SINGLE FILE" *
BAND_CONTENT BLACK&WHITE *
BITS_PER_PIXEL 8 *
SAMPLES_AND_LINES 5950 7608 *
HORIZONTAL_DATUM NAD83 *
HORIZONTAL_COORDINATE_SYSTEM UTM *
COORDINATE_ZONE 10 *
HORIZONTAL_UNITS METERS *
HORIZONTAL_RESOLUTION 1.0 *
SECONDARY_HORIZONTAL_DATUM NAD27 *
XY_ORIGIN 426994.166 4643507.141 *
SECONDARY_XY_ORIGIN 427090.580 4643311.051 *
NATION US *
STATE CA *
NW_QUAD_CORNER_XY 427463.407 4643207.141 *
NE_QUAD_CORNER_XY 432644.632 4643156.144 *
SE_QUAD_CORNER_XY 432578.902 4636216.878 *
SW_QUAD_CORNER_XY 427392.620 4636267.862 *
SECONDARY_NW_QUAD_XY 427461.414 4642993.701 *
SECONDARY_NE_QUAD_XY 432642.781 4642942.703 *
SECONDARY_SE_QUAD_XY 432577.051 4636003.535 *
SECONDARY_SW_QUAD_XY 427390.627 4636054.520 *
RMSE_XY 0.65 *
IMAGE_SOURCE "BLACK AND WHITE FILM" *
SOURCE_IMAGE_ID "NAPP 10477 89" *
SOURCE_IMAGE_DATE 1998 8 12 *
SOURCE_IMAGE_ID "NAPP 10477 90" *
SOURCE_IMAGE_DATE 1998 8 12 *
SOURCE_IMAGE_ID "NAPP 10477 88" *
SOURCE_IMAGE_DATE 1998 8 12 *
SOURCE_IMAGE_ID "NAPP 10478 66" *
SOURCE_IMAGE_DATE 1998 8 12 *
SOURCE_IMAGE_ID "NAPP 10478 65" *
SOURCE_IMAGE_DATE 1998 8 12 *
SOURCE_IMAGE_ID "NAPP 10478 64" *
SOURCE_IMAGE_DATE 1998 8 12 *
SOURCE_IMAGE_ID "NAPP 10478 57" *
SOURCE_IMAGE_DATE 1998 8 12 *
SOURCE_IMAGE_ID "NAPP 10478 58" *
SOURCE_IMAGE_DATE 1998 8 12 *
SOURCE_IMAGE_ID "NAPP 10478 59" *
SOURCE_IMAGE_DATE 1998 8 12 *
SOURCE_DEM_DATE 1982 1 1 *
AGENCY "WESTERN MAPPING CENTER (WMC)" *
PRODUCER "USDA FS GEOSPATIAL SERVICE AND TECHNOLOGY CENTER" *
PRODUCTION_SYSTEM "ORBIT OR_RECTIFY V.5.2" *
STANDARD_VERSION 1996 12 *
METADATA_DATE 2001 3 29 *
DATA_FILE_SIZE 45273550 *
BYTE_COUNT 5950 * * * * * * * * * * * * * * * *
END_USGS_HEADER *
