BEGIN_USGS_DOQ_HEADER *
QUADRANGLE_NAME "HIGH PLATEAU MOUNTAIN" *
QUADRANT NE *
WEST_LONGITUDE -123 56 15.000 *
EAST_LONGITUDE -123 52 30.000 *
NORTH_LATITUDE 42 0 0.000 *
SOUTH_LATITUDE 41 56 15.000 *
PRODUCTION_DATE 2001 5 2 *
RASTER_ORDER LEFT_RIGHT/TOP_BOTTOM *
BAND_ORGANIZATION "SINGLE FILE" *
BAND_CONTENT BLACK&WHITE *
BITS_PER_PIXEL 8 *
SAMPLES_AND_LINES 5951 7611 *
HORIZONTAL_DATUM NAD83 *
HORIZONTAL_COORDINATE_SYSTEM UTM *
COORDINATE_ZONE 10 *
HORIZONTAL_UNITS METERS *
HORIZONTAL_RESOLUTION 1.0 *
SECONDARY_HORIZONTAL_DATUM NAD27 *
XY_ORIGIN 421884.115 4650500.781 *
SECONDARY_XY_ORIGIN 421980.498 4650304.637 *
NATION US *
STATE CA *
STATE OR *
NW_QUAD_CORNER_XY 422358.111 4650201.281 *
NE_QUAD_CORNER_XY 427534.281 4650146.493 *
SE_QUAD_CORNER_XY 427463.407 4643207.141 *
SW_QUAD_CORNER_XY 422282.174 4643261.915 *
SECONDARY_NW_QUAD_XY 422355.974 4649987.746 *
SECONDARY_NE_QUAD_XY 427532.287 4649932.957 *
SECONDARY_SE_QUAD_XY 427461.414 4642993.701 *
SECONDARY_SW_QUAD_XY 422280.037 4643048.477 *
RMSE_XY 0.65 *
IMAGE_SOURCE "BLACK AND WHITE FILM" *
SOURCE_IMAGE_ID "NAPP 10478 63" *
SOURCE_IMAGE_DATE 1998 8 12 *
SOURCE_IMAGE_ID "NAPP 10478 64" *
SOURCE_IMAGE_DATE 1998 8 12 *
SOURCE_IMAGE_ID "NAPP 10478 62" *
SOURCE_IMAGE_DATE 1998 8 12 *
SOURCE_IMAGE_ID "NAPP 10478 222" *
SOURCE_IMAGE_DATE 1998 8 12 *
SOURCE_IMAGE_ID "NAPP 10478 221" *
SOURCE_IMAGE_DATE 1998 8 12 *
SOURCE_IMAGE_ID "NAPP 10478 220" *
SOURCE_IMAGE_DATE 1998 8 12 *
SOURCE_IMAGE_ID "NAPP 10477 88" *
SOURCE_IMAGE_DATE 1998 8 12 *
SOURCE_IMAGE_ID "NAPP 10477 87" *
SOURCE_IMAGE_DATE 1998 8 12 *
SOURCE_IMAGE_ID "NAPP 10477 86" *
SOURCE_IMAGE_DATE 1998 8 12 *
SOURCE_DEM_DATE 1982 1 1 *
AGENCY "WESTERN MAPPING CENTER (WMC)" *
PRODUCER "USDA FS GEOSPATIAL SERVICE AND TECHNOLOGY CENTER" *
PRODUCTION_SYSTEM "ORBIT OR_RECTIFY V.5.2" *
STANDARD_VERSION 1996 12 *
METADATA_DATE 2001 3 29 *
DATA_FILE_SIZE 45299012 *
BYTE_COUNT 5951 * * * * * * * * * * * * * * *
END_USGS_HEADER *
