BEGIN_USGS_DOQ_HEADER *
QUADRANGLE_NAME "HIGH PLATEAU MOUNTAIN" *
QUADRANT SW *
WEST_LONGITUDE -124 0 0.000 *
EAST_LONGITUDE -123 56 15.000 *
NORTH_LATITUDE 41 56 15.000 *
SOUTH_LATITUDE 41 52 30.000 *
PRODUCTION_DATE 2001 5 2 *
RASTER_ORDER LEFT_RIGHT/TOP_BOTTOM *
BAND_ORGANIZATION "SINGLE FILE" *
BAND_CONTENT BLACK&WHITE *
BITS_PER_PIXEL 8 *
SAMPLES_AND_LINES 5961 7615 *
HORIZONTAL_DATUM NAD83 *
HORIZONTAL_COORDINATE_SYSTEM UTM *
COORDINATE_ZONE 10 *
HORIZONTAL_UNITS METERS *
HORIZONTAL_RESOLUTION 1.0 *
SECONDARY_HORIZONTAL_DATUM NAD27 *
XY_ORIGIN 416621.790 4643619.968 *
SECONDARY_XY_ORIGIN 416718.226 4643423.801 *
NATION US *
STATE CA *
NW_QUAD_CORNER_XY 417100.930 4643320.468 *
NE_QUAD_CORNER_XY 422282.174 4643261.915 *
SE_QUAD_CORNER_XY 422206.329 4636322.624 *
SW_QUAD_CORNER_XY 417020.028 4636381.163 *
SECONDARY_NW_QUAD_XY 417098.652 4643107.031 *
SECONDARY_NE_QUAD_XY 422280.037 4643048.477 *
SECONDARY_SE_QUAD_XY 422204.194 4636109.283 *
SECONDARY_SW_QUAD_XY 417017.751 4636167.823 *
RMSE_XY 0.65 *
IMAGE_SOURCE "BLACK AND WHITE FILM" *
SOURCE_IMAGE_ID "NAPP 10478 223" *
SOURCE_IMAGE_DATE 1998 8 12 *
SOURCE_IMAGE_ID "NAPP 10478 224" *
SOURCE_IMAGE_DATE 1998 8 12 *
SOURCE_IMAGE_ID "NAPP 10478 222" *
SOURCE_IMAGE_DATE 1998 8 12 *
SOURCE_IMAGE_ID "NAPP 10490 73" *
SOURCE_IMAGE_DATE 1998 9 3 *
SOURCE_IMAGE_ID "NAPP 10490 72" *
SOURCE_IMAGE_DATE 1998 9 3 *
SOURCE_IMAGE_ID "NAPP 10490 71" *
SOURCE_IMAGE_DATE 1998 9 3 *
SOURCE_IMAGE_ID "NAPP 10478 66" *
SOURCE_IMAGE_DATE 1998 8 12 *
SOURCE_IMAGE_ID "NAPP 10478 65" *
SOURCE_IMAGE_DATE 1998 8 12 *
SOURCE_IMAGE_ID "NAPP 10478 64" *
SOURCE_IMAGE_DATE 1998 8 12 *
SOURCE_DEM_DATE 1982 1 1 *
AGENCY "WESTERN MAPPING CENTER (WMC)" *
PRODUCER "USDA FS GEOSPATIAL SERVICE AND TECHNOLOGY CENTER" *
PRODUCTION_SYSTEM "ORBIT OR_RECTIFY V.5.2" *
STANDARD_VERSION 1996 12 *
METADATA_DATE 2001 3 29 *
DATA_FILE_SIZE 45398976 *
BYTE_COUNT 5961 * * * * * * * * * * * * * * * *
END_USGS_HEADER *
