BEGIN_USGS_DOQ_HEADER *
QUADRANGLE_NAME "ORICK" 3.45 or 7.5-min. name*
QUADRANT SE quadrant indicator if cell size = 3.75-minutes*
WEST_LONGITUDE -124 3 45.000 signed deg min sec SDDD MM SS.SSS*
EAST_LONGITUDE -124 0 0.000 signed deg min sec SDDD MM SS.SSS*
NORTH_LATITUDE 41 18 45.000 signed deg min sec SDDD MM SS.SSS*
SOUTH_LATITUDE 41 15 0.000 signed deg min sec SDDD MM SS.SSS*
PRODUCTION_DATE 1996 3 18 yyyy mm dd*
RASTER_ORDER LEFT_RIGHT/TOP_BOTTOM video display order*
BAND_ORGANIZATION "SINGLE FILE" single file or BSQ, or BIL or BIP*
BAND_CONTENT BLACK&WHITE black&white or red green blue*
BITS_PER_PIXEL 8 radiometric resolution*
SAMPLES_AND_LINES 6027 7627 number of columns and rows*
HORIZONTAL_DATUM NAD83 primary horizontal datum*
HORIZONTAL_COORDINATE_SYSTEM UTM *
COORDINATE_ZONE 10 coordinate system zone number*
HORIZONTAL_UNITS METERS coordinate system units*
HORIZONTAL_RESOLUTION 1.00 pixel horiz. ground sample distance*
SECONDARY_HORIZONTAL_DATUM NAD27 secondary horizontal datum*
XY_ORIGIN 410575.500 4574297.500 coord. of upper left pixel pri. datum*
SECONDARY_XY_ORIGIN 410672.316 4574101.077 coord upper left pixel sec datum*
NATION US nation code*
STATE CA state fip code*
NW_QUAD_CORNER_XY 411064.837 4573992.884 XY coords. of pri. NW quad corner*
NE_QUAD_CORNER_XY 416296.389 4573930.716 XY coords. of pri. NE quad corner*
SE_QUAD_CORNER_XY 416216.484 4566992.144 XY coords. of pri. SE quad corner*
SW_QUAD_CORNER_XY 410979.937 4567054.295 XY coords. of pri. SW quad corner*
SECONDARY_NW_QUAD_XY 411062.426 4573780.461 XY coords. - sec. NW quad cor.*
SECONDARY_NE_QUAD_XY 416294.119 4573718.291 XY coords. - sec. NE quad cor.*
SECONDARY_SE_QUAD_XY 416214.215 4566779.825 XY coords. - sec. SE quad cor.*
SECONDARY_SW_QUAD_XY 410977.526 4566841.977 XY coords. - sec. SW quad cor.*
RMSE_XY 3.20 doq horiz. accuracy*
IMAGE_SOURCE "BLACK AND WHITE FILM" b&w, cir, natural color, other*
SOURCE_IMAGE_ID "NAPP 6246 204" source image id*
SOURCE_IMAGE_DATE 1993 6 12 source image date as yyyy mm dd*
SOURCE_DEM_DATE 1996 3 18 source dem date yyyy mm dd*
AGENCY "WESTERN MAPPING CENTER (WMC)" oversight agency*
PRODUCER "Woolpert Consultants" producer/contractor*
PRODUCTION_SYSTEM "INTERGRAPH ISPM,ISIR" production system*
STANDARD_VERSION 1996 12 version of DOQ standard*
METADATA_DATE 1997 7 18 date created or changed, yyyy mm dd*
DATA_FILE_SIZE 45973956 data set size in bytes*
BYTE_COUNT 6027 header byte count* * * * * * * * * * * * * * * * * * * * * * * * * * * * * * * * *
END_USGS_HEADER *
