BEGIN_USGS_DOQ_HEADER *
QUADRANGLE_NAME "CHILDS HILL" *
QUADRANT SE *
WEST_LONGITUDE -124 3 45.000 *
EAST_LONGITUDE -124 0 0.000 *
NORTH_LATITUDE 41 41 15.000 *
SOUTH_LATITUDE 41 37 30.000 *
PRODUCTION_DATE 2001 5 2 *
RASTER_ORDER LEFT_RIGHT/TOP_BOTTOM *
BAND_ORGANIZATION "SINGLE FILE" *
BAND_CONTENT BLACK&WHITE *
BITS_PER_PIXEL 8 *
SAMPLES_AND_LINES 5986 7618 *
HORIZONTAL_DATUM NAD83 *
HORIZONTAL_COORDINATE_SYSTEM UTM *
COORDINATE_ZONE 10 *
HORIZONTAL_UNITS METERS *
HORIZONTAL_RESOLUTION 1.0 *
SECONDARY_HORIZONTAL_DATUM NAD27 *
XY_ORIGIN 411091.888 4615925.956 *
SECONDARY_XY_ORIGIN 411188.476 4615729.671 *
NATION US *
STATE CA *
NW_QUAD_CORNER_XY 411576.470 4615625.956 *
NE_QUAD_CORNER_XY 416777.918 4615563.686 *
SE_QUAD_CORNER_XY 416697.414 4608624.674 *
SW_QUAD_CORNER_XY 411490.933 4608686.928 *
SECONDARY_NW_QUAD_XY 411574.054 4615412.915 *
SECONDARY_NE_QUAD_XY 416775.644 4615350.644 *
SECONDARY_SE_QUAD_XY 416695.141 4608411.733 *
SECONDARY_SW_QUAD_XY 411488.518 4608473.988 *
RMSE_XY 0.65 *
IMAGE_SOURCE "BLACK AND WHITE FILM" *
SOURCE_IMAGE_ID "NAPP 10490 80" *
SOURCE_IMAGE_DATE 1998 9 3 *
SOURCE_IMAGE_ID "NAPP 10490 81" *
SOURCE_IMAGE_DATE 1998 9 3 *
SOURCE_IMAGE_ID "NAPP 10490 79" *
SOURCE_IMAGE_DATE 1998 9 3 *
SOURCE_IMAGE_ID "NAPP 10490 55" *
SOURCE_IMAGE_DATE 1998 9 3 *
SOURCE_IMAGE_ID "NAPP 10490 56" *
SOURCE_IMAGE_DATE 1998 9 3 *
SOURCE_IMAGE_ID "NAPP 10490 57" *
SOURCE_IMAGE_DATE 1998 9 3 *
SOURCE_IMAGE_ID "NAPP 10478 232" *
SOURCE_IMAGE_DATE 1998 8 12 *
SOURCE_IMAGE_ID "NAPP 10478 231" *
SOURCE_IMAGE_DATE 1998 8 12 *
SOURCE_IMAGE_ID "NAPP 10478 230" *
SOURCE_IMAGE_DATE 1998 8 12 *
SOURCE_DEM_DATE 2000 0 0 *
AGENCY "WESTERN MAPPING CENTER (WMC)" *
PRODUCER "USDA FS GEOSPATIAL SERVICE AND TECHNOLOGY CENTER" *
PRODUCTION_SYSTEM "ORBIT OR_RECTIFY V.5.2" *
STANDARD_VERSION 1996 12 *
METADATA_DATE 2001 3 29 *
DATA_FILE_SIZE 45607334 *
BYTE_COUNT 5986 * * * * * * * * * * * * * * * *
END_USGS_HEADER *
