BEGIN_USGS_DOQ_HEADER *
QUADRANGLE_NAME "SISTER ROCKS" 3.45 or 7.5-min. name*
QUADRANT SE quadrant indicator if cell size = 3.75-minutes*
WEST_LONGITUDE -124 11 15.000 signed deg min sec SDDD MM SS.SSS*
EAST_LONGITUDE -124 7 30.000 signed deg min sec SDDD MM SS.SSS*
NORTH_LATITUDE 41 41 15.000 signed deg min sec SDDD MM SS.SSS*
SOUTH_LATITUDE 41 37 30.000 signed deg min sec SDDD MM SS.SSS*
PRODUCTION_DATE 1996 2 17 yyyy mm dd*
RASTER_ORDER LEFT_RIGHT/TOP_BOTTOM video display order*
BAND_ORGANIZATION "SINGLE FILE" single file or BSQ, or BIL or BIP*
BAND_CONTENT BLACK&WHITE black&white or red green blue*
BITS_PER_PIXEL 8 radiometric resolution*
SAMPLES_AND_LINES 6006 7636 number of columns and rows*
HORIZONTAL_DATUM NAD83 primary horizontal datum*
HORIZONTAL_COORDINATE_SYSTEM UTM *
COORDINATE_ZONE 10 coordinate system zone number*
HORIZONTAL_UNITS METERS coordinate system units*
HORIZONTAL_RESOLUTION 1.00 pixel horiz. ground sample distance*
SECONDARY_HORIZONTAL_DATUM NAD27 secondary horizontal datum*
XY_ORIGIN 400674.500 4616066.500 coord. of upper left pixel pri. datum*
SECONDARY_XY_ORIGIN 400771.128 4615870.045 coord upper left pixel sec datum*
NATION US nation code*
STATE CA state fip code*
NW_QUAD_CORNER_XY 401173.537 4615761.821 XY coords. of pri. NW quad corner*
NE_QUAD_CORNER_XY 406375.010 4615692.001 XY coords. of pri. NE quad corner*
SE_QUAD_CORNER_XY 406284.440 4608752.956 XY coords. of pri. SE quad corner*
SW_QUAD_CORNER_XY 401077.933 4608822.758 XY coords. of pri. SW quad corner*
SECONDARY_NW_QUAD_XY 401170.833 4615548.784 XY coords. - sec. NW quad cor.*
SECONDARY_NE_QUAD_XY 406372.449 4615478.962 XY coords. - sec. NE quad cor.*
SECONDARY_SE_QUAD_XY 406281.880 4608540.018 XY coords. - sec. SE quad cor.*
SECONDARY_SW_QUAD_XY 401075.231 4608609.822 XY coords. - sec. SW quad cor.*
RMSE_XY 1.80 doq horiz. accuracy*
IMAGE_SOURCE "BLACK AND WHITE FILM" b&w, cir, natural color, other*
SOURCE_IMAGE_ID "NAPP 6246 295" source image id*
SOURCE_IMAGE_DATE 1993 6 12 source image date as yyyy mm dd*
SOURCE_DEM_DATE 1996 2 17 source dem date yyyy mm dd*
AGENCY "WESTERN MAPPING CENTER (WMC)" oversight agency*
PRODUCER "Woolpert Consultants" producer/contractor*
PRODUCTION_SYSTEM "INTERGRAPH ISPM,ISIR" production system*
STANDARD_VERSION 1996 12 version of DOQ standard*
METADATA_DATE 1997 7 20 date created or changed, yyyy mm dd*
DATA_FILE_SIZE 45867822 data set size in bytes*
BYTE_COUNT 6006 header byte count* * * * * * * * * * * * * * * * * * * * * * * * * * * * * * * * *
END_USGS_HEADER *
