BEGIN_USGS_DOQ_HEADER *
QUADRANGLE_NAME "HIOUCHI" 3.45 or 7.5-min. name*
QUADRANT SE quadrant indicator if cell size = 3.75-minutes*
WEST_LONGITUDE -124 3 45.000 signed deg min sec SDDD MM SS.SSS*
EAST_LONGITUDE -124 0 0.000 signed deg min sec SDDD MM SS.SSS*
NORTH_LATITUDE 41 48 45.000 signed deg min sec SDDD MM SS.SSS*
SOUTH_LATITUDE 41 45 0.000 signed deg min sec SDDD MM SS.SSS*
PRODUCTION_DATE 1996 2 17 yyyy mm dd*
RASTER_ORDER LEFT_RIGHT/TOP_BOTTOM video display order*
BAND_ORGANIZATION "SINGLE FILE" single file or BSQ, or BIL or BIP*
BAND_CONTENT BLACK&WHITE black&white or red green blue*
BITS_PER_PIXEL 8 radiometric resolution*
SAMPLES_AND_LINES 5986 7628 number of columns and rows*
HORIZONTAL_DATUM NAD83 primary horizontal datum*
HORIZONTAL_COORDINATE_SYSTEM UTM *
COORDINATE_ZONE 10 coordinate system zone number*
HORIZONTAL_UNITS METERS coordinate system units*
HORIZONTAL_RESOLUTION 1.00 pixel horiz. ground sample distance*
SECONDARY_HORIZONTAL_DATUM NAD27 secondary horizontal datum*
XY_ORIGIN 411258.500 4629808.500 coord. of upper left pixel pri. datum*
SECONDARY_XY_ORIGIN 411355.039 4629612.276 coord upper left pixel sec datum*
NATION US nation code*
STATE CA state fip code*
NW_QUAD_CORNER_XY 411747.862 4629504.232 XY coords. of pri. NW quad corner*
NE_QUAD_CORNER_XY 416939.225 4629441.930 XY coords. of pri. NE quad corner*
SE_QUAD_CORNER_XY 416858.522 4622502.772 XY coords. of pri. SE quad corner*
SW_QUAD_CORNER_XY 411662.113 4622565.057 XY coords. of pri. SW quad corner*
SECONDARY_NW_QUAD_XY 411745.440 4629290.992 XY coords. - sec. NW quad cor.*
SECONDARY_NE_QUAD_XY 416936.946 4629228.689 XY coords. - sec. NE quad cor.*
SECONDARY_SE_QUAD_XY 416856.244 4622289.629 XY coords. - sec. SE quad cor.*
SECONDARY_SW_QUAD_XY 411659.693 4622351.917 XY coords. - sec. SW quad cor.*
RMSE_XY 3.40 doq horiz. accuracy*
IMAGE_SOURCE "BLACK AND WHITE FILM" b&w, cir, natural color, other*
SOURCE_IMAGE_ID "NAPP 6246 221" source image id*
SOURCE_IMAGE_DATE 1993 6 12 source image date as yyyy mm dd*
SOURCE_DEM_DATE 1996 2 17 source dem date yyyy mm dd*
AGENCY "WESTERN MAPPING CENTER (WMC)" oversight agency*
PRODUCER "Woolpert Consultants" producer/contractor*
PRODUCTION_SYSTEM "INTERGRAPH ISPM,ISIR" production system*
STANDARD_VERSION 1996 12 version of DOQ standard*
METADATA_DATE 1997 7 20 date created or changed, yyyy mm dd*
DATA_FILE_SIZE 45667194 data set size in bytes*
BYTE_COUNT 5986 header byte count* * * * * * * * * * * * * * * * * * * * * * * * * * * * * * * *
END_USGS_HEADER *
