BEGIN_USGS_DOQ_HEADER *
QUADRANGLE_NAME "CRESCENT CITY" 3.45 or 7.5-min. name*
QUADRANT NW quadrant indicator if cell size = 3.75-minutes*
WEST_LONGITUDE -124 15 0.000 signed deg min sec SDDD MM SS.SSS*
EAST_LONGITUDE -124 11 15.000 signed deg min sec SDDD MM SS.SSS*
NORTH_LATITUDE 41 52 30.000 signed deg min sec SDDD MM SS.SSS*
SOUTH_LATITUDE 41 48 45.000 signed deg min sec SDDD MM SS.SSS*
PRODUCTION_DATE 1996 2 17 yyyy mm dd*
RASTER_ORDER LEFT_RIGHT/TOP_BOTTOM video display order*
BAND_ORGANIZATION "SINGLE FILE" single file or BSQ, or BIL or BIP*
BAND_CONTENT BLACK&WHITE black&white or red green blue*
BITS_PER_PIXEL 8 radiometric resolution*
SAMPLES_AND_LINES 5997 7640 number of columns and rows*
HORIZONTAL_DATUM NAD83 primary horizontal datum*
HORIZONTAL_COORDINATE_SYSTEM UTM *
COORDINATE_ZONE 10 coordinate system zone number*
HORIZONTAL_UNITS METERS coordinate system units*
HORIZONTAL_RESOLUTION 1.00 pixel horiz. ground sample distance*
SECONDARY_HORIZONTAL_DATUM NAD27 secondary horizontal datum*
XY_ORIGIN 395769.500 4636957.500 coord. of upper left pixel pri. datum*
SECONDARY_XY_ORIGIN 395866.255 4636760.968 coord upper left pixel sec datum*
NATION US nation code*
STATE CA state fip code*
NW_QUAD_CORNER_XY 396274.707 4636653.096 XY coords. of pri. NW quad corner*
NE_QUAD_CORNER_XY 401461.056 4636579.446 XY coords. of pri. NE quad corner*
SE_QUAD_CORNER_XY 401365.098 4629640.165 XY coords. of pri. SE quad corner*
SW_QUAD_CORNER_XY 396173.697 4629713.798 XY coords. of pri. SW quad corner*
SECONDARY_NW_QUAD_XY 396271.856 4636439.764 XY coords. - sec. NW quad cor.*
SECONDARY_NE_QUAD_XY 401458.348 4636366.112 XY coords. - sec. NE quad cor.*
SECONDARY_SE_QUAD_XY 401362.392 4629426.929 XY coords. - sec. SE quad cor.*
SECONDARY_SW_QUAD_XY 396170.848 4629500.564 XY coords. - sec. SW quad cor.*
RMSE_XY 2.60 doq horiz. accuracy*
IMAGE_SOURCE "BLACK AND WHITE FILM" b&w, cir, natural color, other*
SOURCE_IMAGE_ID "NAPP 6247 011" source image id*
SOURCE_IMAGE_DATE 1993 6 12 source image date as yyyy mm dd*
SOURCE_DEM_DATE 1996 2 17 source dem date yyyy mm dd*
AGENCY "WESTERN MAPPING CENTER (WMC)" oversight agency*
PRODUCER "Woolpert Consultants" producer/contractor*
PRODUCTION_SYSTEM "INTERGRAPH ISPM,ISIR" production system*
STANDARD_VERSION 1996 12 version of DOQ standard*
METADATA_DATE 1997 7 20 date created or changed, yyyy mm dd*
DATA_FILE_SIZE 45823077 data set size in bytes*
BYTE_COUNT 5997 header byte count* * * * * * * * * * * * * * * * * * * * * * * * * * * * * * * *
END_USGS_HEADER *
