BEGIN_USGS_DOQ_HEADER *
QUADRANGLE_NAME "COLEMAN LAKE" *
QUADRANT SW *
WEST_LONGITUDE -119 52 30.000 *
EAST_LONGITUDE -119 48 45.000 *
NORTH_LATITUDE 42 3 45.000 *
SOUTH_LATITUDE 42 0 0.000 *
PRODUCTION_DATE 1999 10 26 *
RASTER_ORDER LEFT_RIGHT/TOP_BOTTOM *
BAND_ORGANIZATION "SINGLE FILE" *
BAND_CONTENT BLACK&WHITE *
BITS_PER_PIXEL 8 *
SAMPLES_AND_LINES 6092 7720 *
HORIZONTAL_DATUM NAD83 *
HORIZONTAL_COORDINATE_SYSTEM UTM *
COORDINATE_ZONE 11 *
HORIZONTAL_UNITS METERS *
HORIZONTAL_RESOLUTION 1.000000 *
SECONDARY_HORIZONTAL_DATUM NAD27 *
XY_ORIGIN 261501.500 4661014.500 *
SECONDARY_XY_ORIGIN 261582.702 4660810.258 *
NATION US *
STATE OR *
NW_QUAD_CORNER_XY 262122.087 4660715.647 *
NE_QUAD_CORNER_XY 267293.781 4660543.540 *
SE_QUAD_CORNER_XY 267065.501 4653603.322 *
SW_QUAD_CORNER_XY 261888.724 4653775.389 *
SECONDARY_NW_QUAD_XY 262115.519 4660502.115 *
SECONDARY_NE_QUAD_XY 267287.356 4660330.003 *
SECONDARY_SE_QUAD_XY 267059.079 4653389.880 *
SECONDARY_SW_QUAD_XY 261882.159 4653561.952 *
RMSE_XY 1.81 *
IMAGE_SOURCE "BLACK & WHITE FILM" *
SOURCE_IMAGE_ID "NAPP 7103 127" *
SOURCE_IMAGE_DATE 1994 07 07 *
SOURCE_DEM_DATE 1990 00 00 *
AGENCY "WESTERN MAPPING CENTER (WMC)" *
PRODUCER "NIES MAPPING GROUP, INC." *
PRODUCTION_SYSTEM "INTERGRAPH MODEL_SETUP, BASE_RECTIFIER" *
STANDARD_VERSION 1996 12 *
METADATA_DATE 1999 10 26 *
DATA_FILE_SIZE 47036332 *
BYTE_COUNT 6092 * * * * * * * * * * * * * * * * * * * * * * * * * * * * * * * * * *
END_USGS_HEADER *
