BEGIN_USGS_DOQ_HEADER *
QUADRANGLE_NAME "MAY LAKE" *
QUADRANT NW *
WEST_LONGITUDE -120 0 0.000 *
EAST_LONGITUDE -119 56 15.000 *
NORTH_LATITUDE 42 7 30.000 *
SOUTH_LATITUDE 42 3 45.000 *
PRODUCTION_DATE 1999 10 27 *
RASTER_ORDER LEFT_RIGHT/TOP_BOTTOM *
BAND_ORGANIZATION "SINGLE FILE" *
BAND_CONTENT BLACK&WHITE *
BITS_PER_PIXEL 8 *
SAMPLES_AND_LINES 6098 7728 *
HORIZONTAL_DATUM NAD83 *
HORIZONTAL_COORDINATE_SYSTEM UTM *
COORDINATE_ZONE 11 *
HORIZONTAL_UNITS METERS *
HORIZONTAL_RESOLUTION 1.000000 *
SECONDARY_HORIZONTAL_DATUM NAD27 *
XY_ORIGIN 251391.500 4668310.500 *
SECONDARY_XY_ORIGIN 251472.672 4668106.236 *
NATION US *
STATE OR *
NW_QUAD_CORNER_XY 252022.436 4668011.624 *
NE_QUAD_CORNER_XY 257189.099 4667831.897 *
SE_QUAD_CORNER_XY 256950.363 4660891.543 *
SW_QUAD_CORNER_XY 251778.609 4661071.230 *
SECONDARY_NW_QUAD_XY 252015.579 4667798.007 *
SECONDARY_NE_QUAD_XY 257182.386 4667618.275 *
SECONDARY_SE_QUAD_XY 256943.652 4660678.016 *
SECONDARY_SW_QUAD_XY 251771.756 4660857.708 *
RMSE_XY 1.98 *
IMAGE_SOURCE "BLACK & WHITE FILM" *
SOURCE_IMAGE_ID "NAPP 7103 132" *
SOURCE_IMAGE_DATE 1994 07 07 *
SOURCE_DEM_DATE 1990 00 00 *
AGENCY "WESTERN MAPPING CENTER (WMC)" *
PRODUCER "NIES MAPPING GROUP, INC." *
PRODUCTION_SYSTEM "INTERGRAPH MODEL_SETUP, BASE_RECTIFIER" *
STANDARD_VERSION 1996 12 *
METADATA_DATE 1999 10 27 *
DATA_FILE_SIZE 47131442 *
BYTE_COUNT 6098 * * * * * * * * * * * * * * * * * * * * * * * * * * * * * * * * * *
END_USGS_HEADER *
