BEGIN_USGS_DOQ_HEADER *
QUADRANGLE_NAME "MAY LAKE" *
QUADRANT SW *
WEST_LONGITUDE -120 0 0.000 *
EAST_LONGITUDE -119 56 15.000 *
NORTH_LATITUDE 42 3 45.000 *
SOUTH_LATITUDE 42 0 0.000 *
PRODUCTION_DATE 1999 10 27 *
RASTER_ORDER LEFT_RIGHT/TOP_BOTTOM *
BAND_ORGANIZATION "SINGLE FILE" *
BAND_CONTENT BLACK&WHITE *
BITS_PER_PIXEL 8 *
SAMPLES_AND_LINES 6103 7728 *
HORIZONTAL_DATUM NAD83 *
HORIZONTAL_COORDINATE_SYSTEM UTM *
COORDINATE_ZONE 11 *
HORIZONTAL_UNITS METERS *
HORIZONTAL_RESOLUTION 1.000000 *
SECONDARY_HORIZONTAL_DATUM NAD27 *
XY_ORIGIN 251147.500 4661370.500 *
SECONDARY_XY_ORIGIN 251228.718 4661166.239 *
NATION US *
STATE OR *
NW_QUAD_CORNER_XY 251778.609 4661071.230 *
NE_QUAD_CORNER_XY 256950.363 4660891.543 *
SE_QUAD_CORNER_XY 256711.917 4653951.245 *
SW_QUAD_CORNER_XY 251535.079 4654130.892 *
SECONDARY_NW_QUAD_XY 251771.756 4660857.708 *
SECONDARY_NE_QUAD_XY 256943.652 4660678.016 *
SECONDARY_SE_QUAD_XY 256705.209 4653737.814 *
SECONDARY_SW_QUAD_XY 251528.229 4653917.465 *
RMSE_XY 1.62 *
IMAGE_SOURCE "BLACK & WHITE FILM" *
SOURCE_IMAGE_ID "NAPP 7103 130" *
SOURCE_IMAGE_DATE 1994 07 07 *
SOURCE_DEM_DATE 1990 00 00 *
AGENCY "WESTERN MAPPING CENTER (WMC)" *
PRODUCER "NIES MAPPING GROUP, INC." *
PRODUCTION_SYSTEM "INTERGRAPH MODEL_SETUP, BASE_RECTIFIER" *
STANDARD_VERSION 1996 12 *
METADATA_DATE 1999 10 27 *
DATA_FILE_SIZE 47170087 *
BYTE_COUNT 6103 * * * * * * * * * * * * * * * * * * * * * * * * * * * * * * * * * *
END_USGS_HEADER *
