BEGIN_USGS_DOQ_HEADER *
QUADRANGLE_NAME "CALDERWOOD RESERVOIR" *
QUADRANT SE *
WEST_LONGITUDE -119 48 45.000 *
EAST_LONGITUDE -119 45 0.000 *
NORTH_LATITUDE 42 11 15.000 *
SOUTH_LATITUDE 42 7 30.000 *
PRODUCTION_DATE 1999 10 26 *
RASTER_ORDER LEFT_RIGHT/TOP_BOTTOM *
BAND_ORGANIZATION "SINGLE FILE" *
BAND_CONTENT BLACK&WHITE *
BITS_PER_PIXEL 8 *
SAMPLES_AND_LINES 6077 7717 *
HORIZONTAL_DATUM NAD83 *
HORIZONTAL_COORDINATE_SYSTEM UTM *
COORDINATE_ZONE 11 *
HORIZONTAL_UNITS METERS *
HORIZONTAL_RESOLUTION 1.000000 *
SECONDARY_HORIZONTAL_DATUM NAD27 *
XY_ORIGIN 267135.500 4674723.500 *
SECONDARY_XY_ORIGIN 267216.666 4674519.292 *
NATION US *
STATE OR *
NW_QUAD_CORNER_XY 267751.175 4674424.151 *
NE_QUAD_CORNER_XY 272912.659 4674255.759 *
SE_QUAD_CORNER_XY 272688.917 4667315.462 *
SW_QUAD_CORNER_XY 267522.339 4667483.817 *
SECONDARY_NW_QUAD_XY 267744.744 4674210.425 *
SECONDARY_NE_QUAD_XY 272906.371 4674042.029 *
SECONDARY_SE_QUAD_XY 272682.632 4667101.826 *
SECONDARY_SW_QUAD_XY 267515.911 4667270.185 *
RMSE_XY 1.36 *
IMAGE_SOURCE "BLACK & WHITE FILM" *
SOURCE_IMAGE_ID "NAPP 7103 10" *
SOURCE_IMAGE_DATE 1994 07 07 *
SOURCE_DEM_DATE 1989 00 00 *
AGENCY "WESTERN MAPPING CENTER (WMC)" *
PRODUCER "NIES MAPPING GROUP, INC." *
PRODUCTION_SYSTEM "INTERGRAPH MODEL_SETUP, BASE_RECTIFIER" *
STANDARD_VERSION 1996 12 *
METADATA_DATE 1999 10 26 *
DATA_FILE_SIZE 46902286 *
BYTE_COUNT 6077 * * * * * * * * * * * * * * * * * * * * * * * * * * * * * * * * *
END_USGS_HEADER *
