BEGIN_USGS_DOQ_HEADER *
QUADRANGLE_NAME "ADEL" *
QUADRANT SW *
WEST_LONGITUDE -120 0 0.000 *
EAST_LONGITUDE -119 56 15.000 *
NORTH_LATITUDE 42 11 15.000 *
SOUTH_LATITUDE 42 7 30.000 *
PRODUCTION_DATE 1999 10 27 *
RASTER_ORDER LEFT_RIGHT/TOP_BOTTOM *
BAND_ORGANIZATION "SINGLE FILE" *
BAND_CONTENT BLACK&WHITE *
BITS_PER_PIXEL 8 *
SAMPLES_AND_LINES 6093 7729 *
HORIZONTAL_DATUM NAD83 *
HORIZONTAL_COORDINATE_SYSTEM UTM *
COORDINATE_ZONE 11 *
HORIZONTAL_UNITS METERS *
HORIZONTAL_RESOLUTION 1.000000 *
SECONDARY_HORIZONTAL_DATUM NAD27 *
XY_ORIGIN 251635.500 4675251.500 *
SECONDARY_XY_ORIGIN 251716.626 4675047.234 *
NATION US *
STATE OR *
NW_QUAD_CORNER_XY 252266.559 4674952.073 *
NE_QUAD_CORNER_XY 257428.126 4674772.307 *
SE_QUAD_CORNER_XY 257189.099 4667831.897 *
SW_QUAD_CORNER_XY 252022.436 4668011.624 *
SECONDARY_NW_QUAD_XY 252259.699 4674738.362 *
SECONDARY_NE_QUAD_XY 257421.409 4674558.591 *
SECONDARY_SE_QUAD_XY 257182.386 4667618.275 *
SECONDARY_SW_QUAD_XY 252015.579 4667798.007 *
RMSE_XY 0.66 *
IMAGE_SOURCE "BLACK & WHITE FILM" *
SOURCE_IMAGE_ID "NAPP 7103 134" *
SOURCE_IMAGE_DATE 1994 07 07 *
SOURCE_DEM_DATE 1988 00 00 *
AGENCY "WESTERN MAPPING CENTER (WMC)" *
PRODUCER "NIES MAPPING GROUP, INC." *
PRODUCTION_SYSTEM "INTERGRAPH MODEL_SETUP, BASE_RECTIFIER" *
STANDARD_VERSION 1996 12 *
METADATA_DATE 1999 10 27 *
DATA_FILE_SIZE 47098890 *
BYTE_COUNT 6093 * * * * * * * * * * * * * * * * * * * * * * * * * * * * * * * * * *
END_USGS_HEADER *
