BEGIN_USGS_DOQ_HEADER *
QUADRANGLE_NAME "CRANE MOUNTAIN" *
WEST_LONGITUDE -120 15 0.000 *
EAST_LONGITUDE -120 7 30.000 *
NORTH_LATITUDE 42 7 30.000 *
SOUTH_LATITUDE 42 0 0.000 *
PRODUCTION_DATE 1999 09 27 *
RASTER_ORDER LEFT_RIGHT/TOP_BOTTOM *
BAND_ORGANIZATION "SINGLE FILE" *
BAND_CONTENT BLACK&WHITE *
BITS_PER_PIXEL 8 *
SAMPLES_AND_LINES 11399 14820 *
HORIZONTAL_DATUM NAD83 *
HORIZONTAL_COORDINATE_SYSTEM UTM *
COORDINATE_ZONE 10 *
HORIZONTAL_UNITS METERS *
HORIZONTAL_RESOLUTION 1.000000 *
SECONDARY_HORIZONTAL_DATUM NAD27 *
XY_ORIGIN 726924.411 4667939.546 *
SECONDARY_XY_ORIGIN 727018.500 4667741.500 *
NATION US *
STATE OR *
NW_QUAD_CORNER_XY 727311.083 4667315.462 *
NE_QUAD_CORNER_XY 737644.266 4667655.962 *
SE_QUAD_CORNER_XY 738111.276 4653775.389 *
SW_QUAD_CORNER_XY 727757.751 4653435.043 *
SECONDARY_NW_QUAD_XY 727317.368 4667101.826 *
SECONDARY_NE_QUAD_XY 737650.837 4667442.335 *
SECONDARY_SE_QUAD_XY 738117.841 4653561.952 *
SECONDARY_SW_QUAD_XY 727764.030 4653221.597 *
RMSE_XY 10.00 *
IMAGE_SOURCE "BLACK AND WHITE FILM" *
SOURCE_IMAGE_ID "NAPP 7108 38" *
SOURCE_IMAGE_DATE 1994 07 12 *
IMAGE_SOURCE "BLACK AND WHITE FILM" *
SOURCE_IMAGE_ID "NAPP 7108 46" *
SOURCE_IMAGE_DATE 1994 07 12 *
IMAGE_SOURCE "BLACK AND WHITE FILM" *
SOURCE_IMAGE_ID "NAPP 7108 40" *
SOURCE_IMAGE_DATE 1994 07 12 *
IMAGE_SOURCE "BLACK AND WHITE FILM" *
SOURCE_IMAGE_ID "NAPP 7108 44" *
SOURCE_IMAGE_DATE 1994 07 12 *
SOURCE_DEM_DATE 1980 00 00 *
AGENCY "WESTERN MAPPING CENTER (WMC)" *
PRODUCER "USDA FS REGION 6" *
PRODUCTION_SYSTEM "INTERGRAPH MODEL_SETUP, BASE_RECTIFIER" *
STANDARD_VERSION 1996 12 *
METADATA_DATE 1999 09 27 *
DATA_FILE_SIZE 168944579 *
BYTE_COUNT 11399 * * * * * * * * * * * * * * * * * * * * * * * * * * * * * * * * * * * * * * * * * * * * * * * * * * * * * * * * * * * * * * * * * * * * * * * * * * * * * * * * * * * * * * * * * * * *
END_USGS_HEADER *
