BEGIN_USGS_DOQ_HEADER *
QUADRANGLE_NAME "CRANE CREEK" *
WEST_LONGITUDE -120 22 30.000 *
EAST_LONGITUDE -120 15 0.000 *
NORTH_LATITUDE 42 7 30.000 *
SOUTH_LATITUDE 42 0 0.000 *
PRODUCTION_DATE 1999 09 27 *
RASTER_ORDER LEFT_RIGHT/TOP_BOTTOM *
BAND_ORGANIZATION "SINGLE FILE" *
BAND_CONTENT BLACK&WHITE *
BITS_PER_PIXEL 8 *
SAMPLES_AND_LINES 11379 14804 *
HORIZONTAL_DATUM NAD83 *
HORIZONTAL_COORDINATE_SYSTEM UTM *
COORDINATE_ZONE 10 *
HORIZONTAL_UNITS METERS *
HORIZONTAL_RESOLUTION 1.000000 *
SECONDARY_HORIZONTAL_DATUM NAD27 *
XY_ORIGIN 716591.486 4667598.564 *
SECONDARY_XY_ORIGIN 716685.500 4667400.500 *
NATION US *
STATE OR *
NW_QUAD_CORNER_XY 716978.009 4666990.122 *
NE_QUAD_CORNER_XY 727311.083 4667315.462 *
SE_QUAD_CORNER_XY 727757.751 4653435.043 *
SW_QUAD_CORNER_XY 717404.340 4653109.850 *
SECONDARY_NW_QUAD_XY 716984.008 4666776.477 *
SECONDARY_NE_QUAD_XY 727317.368 4667101.826 *
SECONDARY_SE_QUAD_XY 727764.030 4653221.597 *
SECONDARY_SW_QUAD_XY 717410.333 4652896.395 *
RMSE_XY 10.00 *
IMAGE_SOURCE "BLACK AND WHITE FILM" *
SOURCE_IMAGE_ID "NAPP 7108 80" *
SOURCE_IMAGE_DATE 1994 07 12 *
IMAGE_SOURCE "BLACK AND WHITE FILM" *
SOURCE_IMAGE_ID "NAPP 7100 139" *
SOURCE_IMAGE_DATE 1994 06 30 *
IMAGE_SOURCE "BLACK AND WHITE FILM" *
SOURCE_IMAGE_ID "NAPP 7108 78" *
SOURCE_IMAGE_DATE 1994 07 12 *
IMAGE_SOURCE "BLACK AND WHITE FILM" *
SOURCE_IMAGE_ID "NAPP 7100 141" *
SOURCE_IMAGE_DATE 1994 06 30 *
SOURCE_DEM_DATE 1980 00 00 *
AGENCY "WESTERN MAPPING CENTER (WMC)" *
PRODUCER "USDA FS REGION 6" *
PRODUCTION_SYSTEM "INTERGRAPH MODEL_SETUP, BASE_RECTIFIER" *
STANDARD_VERSION 1996 12 *
METADATA_DATE 1999 09 27 *
DATA_FILE_SIZE 168466095 *
BYTE_COUNT 11379 * * * * * * * * * * * * * * * * * * * * * * * * * * * * * * * * * * * * * * * * * * * * * * * * * * * * * * * * * * * * * * * * * * * * * * * * * * * * * * * * * * * * * * * * * * * *
END_USGS_HEADER *
