BEGIN_USGS_DOQ_HEADER *
QUADRANGLE_NAME "WEST SIDE" 3.45 or 7.5-min. name*
QUADRANT NW quadrant indicator if cell size = 3.75-minutes*
WEST_LONGITUDE -120 30 0.000 signed deg min sec SDDD MM SS.SSS*
EAST_LONGITUDE -120 26 15.000 signed deg min sec SDDD MM SS.SSS*
NORTH_LATITUDE 42 7 30.000 signed deg min sec SDDD MM SS.SSS*
SOUTH_LATITUDE 42 3 45.000 signed deg min sec SDDD MM SS.SSS*
PRODUCTION_DATE 1998 5 20 yyyy mm dd*
RASTER_ORDER LEFT_RIGHT/TOP_BOTTOM video display order*
BAND_ORGANIZATION "SINGLE FILE" single file or BSQ, or BIL or BIP*
BAND_CONTENT BLACK&WHITE black&white or red green blue*
BITS_PER_PIXEL 8 radiometric resolution*
SAMPLES_AND_LINES 6064 7712 number of columns and rows*
HORIZONTAL_DATUM NAD83 primary horizontal datum*
HORIZONTAL_COORDINATE_SYSTEM UTM *
COORDINATE_ZONE 10 coordinate system zone number*
HORIZONTAL_UNITS METERS coordinate system units*
HORIZONTAL_RESOLUTION 1.00 pixel horiz. ground sample distance*
SECONDARY_HORIZONTAL_DATUM NAD27 secondary horizontal datum*
XY_ORIGIN 706256.000 4667134.000 coord. of upper left pixel pri. datum*
SECONDARY_XY_ORIGIN 706349.940 4666935.917 coord upper left pixel sec datum*
NATION US nation code*
STATE OR state fip code*
NW_QUAD_CORNER_XY 706645.040 4666679.940 XY coords. of pri. NW quad corner*
NE_QUAD_CORNER_XY 711811.510 4666833.140 XY coords. of pri. NE quad corner*
SE_QUAD_CORNER_XY 712019.720 4659893.010 XY coords. of pri. SE quad corner*
SW_QUAD_CORNER_XY 706848.160 4659739.840 XY coords. of pri. SW quad corner*
SECONDARY_NW_QUAD_XY 706650.750 4666466.280 XY coords. - sec. NW quad cor.*
SECONDARY_NE_QUAD_XY 711817.370 4666619.490 XY coords. - sec. NE quad cor.*
SECONDARY_SE_QUAD_XY 712025.570 4659679.450 XY coords. - sec. SE quad cor.*
SECONDARY_SW_QUAD_XY 706853.870 4659526.280 XY coords. - sec. SW quad cor.*
RMSE_XY 1.50 doq horiz. accuracy*
IMAGE_SOURCE "BLACK AND WHITE FILM" b&w, cir, natural color, other*
SOURCE_IMAGE_ID "NAPP 7101 82" source image id*
SOURCE_IMAGE_DATE 1994 7 1 source image date as yyyy mm dd*
SOURCE_DEM_DATE 1998 5 20 source dem date yyyy mm dd*
AGENCY "WESTERN MAPPING CENTER (WMC)" oversight agency*
PRODUCER "WESTERN MAPPING CENTER (WMC)" *
PRODUCTION_SYSTEM "DV2.6.3 10/9OV2.4 5/95" production system*
STANDARD_VERSION 1996 12 version of DOQ standard*
METADATA_DATE 1998 6 7 date created or changed, yyyy mm dd*
DATA_FILE_SIZE 46771632 data set size in bytes*
BYTE_COUNT 6064 header byte count* * * * * * * * * * * * * * * * * * * * * * * * * * * * * * * * *
END_USGS_HEADER *
