BEGIN_USGS_DOQ_HEADER *
QUADRANGLE_NAME "WEST SIDE" 3.45 or 7.5-min. name*
QUADRANT SW quadrant indicator if cell size = 3.75-minutes*
WEST_LONGITUDE -120 30 0.000 signed deg min sec SDDD MM SS.SSS*
EAST_LONGITUDE -120 26 15.000 signed deg min sec SDDD MM SS.SSS*
NORTH_LATITUDE 42 3 45.000 signed deg min sec SDDD MM SS.SSS*
SOUTH_LATITUDE 42 0 0.000 signed deg min sec SDDD MM SS.SSS*
PRODUCTION_DATE 1998 5 20 yyyy mm dd*
RASTER_ORDER LEFT_RIGHT/TOP_BOTTOM video display order*
BAND_ORGANIZATION "SINGLE FILE" single file or BSQ, or BIL or BIP*
BAND_CONTENT BLACK&WHITE black&white or red green blue*
BITS_PER_PIXEL 8 radiometric resolution*
SAMPLES_AND_LINES 6068 7711 number of columns and rows*
HORIZONTAL_DATUM NAD83 primary horizontal datum*
HORIZONTAL_COORDINATE_SYSTEM UTM *
COORDINATE_ZONE 10 coordinate system zone number*
HORIZONTAL_UNITS METERS coordinate system units*
HORIZONTAL_RESOLUTION 1.00 pixel horiz. ground sample distance*
SECONDARY_HORIZONTAL_DATUM NAD27 secondary horizontal datum*
XY_ORIGIN 706459.000 4660194.000 coord. of upper left pixel pri. datum*
SECONDARY_XY_ORIGIN 706552.948 4659995.874 coord upper left pixel sec datum*
NATION US nation code*
STATE OR state fip code*
NW_QUAD_CORNER_XY 706848.160 4659739.840 XY coords. of pri. NW quad corner*
NE_QUAD_CORNER_XY 712019.720 4659893.010 XY coords. of pri. NE quad corner*
SE_QUAD_CORNER_XY 712227.680 4652952.930 XY coords. of pri. SE quad corner*
SW_QUAD_CORNER_XY 707051.040 4652799.810 XY coords. of pri. SW quad corner*
SECONDARY_NW_QUAD_XY 706853.870 4659526.280 XY coords. - sec. NW quad cor.*
SECONDARY_NE_QUAD_XY 712025.570 4659679.450 XY coords. - sec. NE quad cor.*
SECONDARY_SE_QUAD_XY 712233.530 4652739.480 XY coords. - sec. SE quad cor.*
SECONDARY_SW_QUAD_XY 707056.750 4652586.340 XY coords. - sec. SW quad cor.*
RMSE_XY 1.20 doq horiz. accuracy*
IMAGE_SOURCE "BLACK AND WHITE FILM" b&w, cir, natural color, other*
SOURCE_IMAGE_ID "NAPP 7101 80" source image id*
SOURCE_IMAGE_DATE 1994 7 1 source image date as yyyy mm dd*
SOURCE_DEM_DATE 1998 5 20 source dem date yyyy mm dd*
AGENCY "WESTERN MAPPING CENTER (WMC)" oversight agency*
PRODUCER "WESTERN MAPPING CENTER (WMC)" *
PRODUCTION_SYSTEM "DV2.6.3 10/9OV2.4 5/95" production system*
STANDARD_VERSION 1996 12 version of DOQ standard*
METADATA_DATE 1998 6 7 date created or changed, yyyy mm dd*
DATA_FILE_SIZE 46796416 data set size in bytes*
BYTE_COUNT 6068 header byte count* * * * * * * * * * * * * * * * * * * * * * * * * * * * * * * * *
END_USGS_HEADER *
