BEGIN_USGS_DOQ_HEADER *
QUADRANGLE_NAME "STRAWBERRY BUTTE" *
WEST_LONGITUDE -120 52 30.000 *
EAST_LONGITUDE -120 45 0.000 *
NORTH_LATITUDE 42 7 30.000 *
SOUTH_LATITUDE 42 0 0.000 *
PRODUCTION_DATE 2001 11 28 *
RASTER_ORDER LEFT_RIGHT/TOP_BOTTOM *
BAND_ORGANIZATION "SINGLE FILE" *
BAND_CONTENT BLACK&WHITE *
BITS_PER_PIXEL 8 *
SAMPLES_AND_LINES 11299 14745 *
HORIZONTAL_DATUM "NAD83" *
HORIZONTAL_COORDINATE_SYSTEM UTM *
COORDINATE_ZONE 10 *
HORIZONTAL_UNITS METERS *
HORIZONTAL_RESOLUTION 1.00 *
SECONDARY_HORIZONTAL_DATUM "NAD27" *
XY_ORIGIN 675346.496 4666404.505 *
SECONDARY_XY_ORIGIN 675440.652 4666206.421 *
NATION US *
STATE OR *
NW_QUAD_CORNER_XY 675646.709 4665840.291 *
NE_QUAD_CORNER_XY 685979.395 4666105.026 *
SE_QUAD_CORNER_XY 686344.742 4652225.154 *
SW_QUAD_CORNER_XY 675991.738 4651960.539 *
SECONDARY_NW_QUAD_XY 675651.565 4665626.613 *
SECONDARY_NE_QUAD_XY 685984.536 4665891.356 *
SECONDARY_SE_QUAD_XY 686349.879 4652011.675 *
SECONDARY_SW_QUAD_XY 675996.589 4651747.052 *
RMSE_XY 10.00 *
IMAGE_SOURCE "BLACK & WHITE FILM" *
SOURCE_IMAGE_ID "NAPP 12275-16" *
SOURCE_IMAGE_DATE 2000 8 5 *
SOURCE_IMAGE_ID "NAPP 12244-203" *
SOURCE_IMAGE_DATE 2000 7 22 *
SOURCE_IMAGE_ID "NAPP 12244-205" *
SOURCE_IMAGE_DATE 2000 7 22 *
SOURCE_IMAGE_ID "NAPP 12275-14" *
SOURCE_IMAGE_DATE 2000 8 5 *
SOURCE_DEM_DATE 1999 1 1 *
AGENCY "WESTERN MAPPING CENTER (WMC)" *
PRODUCER "USDA FS REGION 6" *
PRODUCTION_SYSTEM "PIXMAP V1.0 ON I386 LINUX" *
STANDARD_VERSION 1996 12 *
METADATA_DATE 2002 12 3 *
DATA_FILE_SIZE 166615054 *
BYTE_COUNT 11299 * CONTRACTOR "PIXXURES, INC." * * * * * * * * * * * * * * * * * * * * * * * * * * * * * * * * * * * * * * * * * * * * * * * * * * * * * * * * * * * * * * * * * * * * * * * * * * * * * * * * * * * * * * * * * * * * *
END_USGS_HEADER *
