BEGIN_USGS_DOQ_HEADER *
QUADRANGLE_NAME "ANTLER POINT" *
WEST_LONGITUDE -121 0 0.000 *
EAST_LONGITUDE -120 52 30.000 *
NORTH_LATITUDE 42 7 30.000 *
SOUTH_LATITUDE 42 0 0.000 *
PRODUCTION_DATE 2001 12 28 *
RASTER_ORDER LEFT_RIGHT/TOP_BOTTOM *
BAND_ORGANIZATION "SINGLE FILE" *
BAND_CONTENT BLACK&WHITE *
BITS_PER_PIXEL 8 *
SAMPLES_AND_LINES 11278 14730 *
HORIZONTAL_DATUM "NAD83" *
HORIZONTAL_COORDINATE_SYSTEM UTM *
COORDINATE_ZONE 10 *
HORIZONTAL_UNITS METERS *
HORIZONTAL_RESOLUTION 1.00 *
SECONDARY_HORIZONTAL_DATUM "NAD27" *
XY_ORIGIN 665014.498 4666140.503 *
SECONDARY_XY_ORIGIN 665108.948 4665942.459 *
NATION US *
STATE OR *
NW_QUAD_CORNER_XY 665314.109 4665590.699 *
NE_QUAD_CORNER_XY 675646.709 4665840.291 *
SE_QUAD_CORNER_XY 675991.738 4651960.539 *
SW_QUAD_CORNER_XY 665638.822 4651711.060 *
SECONDARY_NW_QUAD_XY 665318.679 4665377.014 *
SECONDARY_NE_QUAD_XY 675651.565 4665626.613 *
SECONDARY_SE_QUAD_XY 675996.589 4651747.052 *
SECONDARY_SW_QUAD_XY 665643.388 4651497.566 *
RMSE_XY 10.00 *
IMAGE_SOURCE "BLACK & WHITE FILM" *
SOURCE_IMAGE_ID "NAPP 12244-283" *
SOURCE_IMAGE_DATE 2000 7 22 *
SOURCE_IMAGE_ID "NAPP 12244-267" *
SOURCE_IMAGE_DATE 2000 7 22 *
SOURCE_IMAGE_ID "NAPP 12244-269" *
SOURCE_IMAGE_DATE 2000 7 22 *
SOURCE_IMAGE_ID "NAPP 12244-270" *
SOURCE_IMAGE_DATE 2000 7 22 *
SOURCE_IMAGE_ID "NAPP 12244-281" *
SOURCE_IMAGE_DATE 2000 7 22 *
SOURCE_DEM_DATE 1999 1 1 *
AGENCY "WESTERN MAPPING CENTER (WMC)" *
PRODUCER "USDA FS REGION 6" *
PRODUCTION_SYSTEM "PIXMAP V1.0 ON I386 LINUX" *
STANDARD_VERSION 1996 12 *
METADATA_DATE 2002 11 22 *
DATA_FILE_SIZE 166136218 *
BYTE_COUNT 11278 * CONTRACTOR "PIXXURES, INC." * * * * * * * * * * * * * * * * * * * * * * * * * * * * * * * * * * * * * * * * * * * * * * * * * * * * * * * * * * * * * * * * * * * * * * * * * * * * * * * * * * * * * * * * * *
END_USGS_HEADER *
