BEGIN_USGS_DOQ_HEADER *
QUADRANGLE_NAME "HORSE PRAIRIE" *
WEST_LONGITUDE -120 15 0.000 *
EAST_LONGITUDE -120 7 30.000 *
NORTH_LATITUDE 42 15 0.000 *
SOUTH_LATITUDE 42 7 30.000 *
PRODUCTION_DATE 1999 09 29 *
RASTER_ORDER LEFT_RIGHT/TOP_BOTTOM *
BAND_ORGANIZATION "SINGLE FILE" *
BAND_CONTENT BLACK&WHITE *
BITS_PER_PIXEL 8 *
SAMPLES_AND_LINES 11380 14820 *
HORIZONTAL_DATUM NAD83 *
HORIZONTAL_COORDINATE_SYSTEM UTM *
COORDINATE_ZONE 10 *
HORIZONTAL_UNITS METERS *
HORIZONTAL_RESOLUTION 1.000000 *
SECONDARY_HORIZONTAL_DATUM NAD27 *
XY_ORIGIN 726476.472 4681819.459 *
SECONDARY_XY_ORIGIN 726570.500 4681621.500 *
NATION US *
STATE OR *
NW_QUAD_CORNER_XY 726863.329 4681196.115 *
NE_QUAD_CORNER_XY 737176.121 4681536.761 *
SE_QUAD_CORNER_XY 737644.266 4667655.962 *
SW_QUAD_CORNER_XY 727311.083 4667315.462 *
SECONDARY_NW_QUAD_XY 726869.620 4680982.292 *
SECONDARY_NE_QUAD_XY 737182.698 4681322.947 *
SECONDARY_SE_QUAD_XY 737650.837 4667442.335 *
SECONDARY_SW_QUAD_XY 727317.368 4667101.826 *
RMSE_XY 10.00 *
IMAGE_SOURCE "BLACK AND WHITE FILM" *
SOURCE_IMAGE_ID "NAPP 7018 34" *
SOURCE_IMAGE_DATE 1994 07 12 *
IMAGE_SOURCE "BLACK AND WHITE FILM" *
SOURCE_IMAGE_ID "NAPP 7108 50" *
SOURCE_IMAGE_DATE 1994 07 12 *
IMAGE_SOURCE "BLACK AND WHITE FILM" *
SOURCE_IMAGE_ID "NAPP 7108 36" *
SOURCE_IMAGE_DATE 1994 07 12 *
IMAGE_SOURCE "BLACK AND WHITE FILM" *
SOURCE_IMAGE_ID "NAPP 7108 48" *
SOURCE_IMAGE_DATE 1994 07 12 *
SOURCE_DEM_DATE 1980 00 00 *
AGENCY "WESTERN MAPPING CENTER (WMC)" *
PRODUCER "USDA FS REGION 6" *
PRODUCTION_SYSTEM "INTERGRAPH MODEL_SETUP, BASE_RECTIFIER" *
STANDARD_VERSION 1996 12 *
METADATA_DATE 1999 09 29 *
DATA_FILE_SIZE 168662980 *
BYTE_COUNT 11380 * * * * * * * * * * * * * * * * * * * * * * * * * * * * * * * * * * * * * * * * * * * * * * * * * * * * * * * * * * * * * * * * * * * * * * * * * * * * * * * * * * * * * * * * * * * *
END_USGS_HEADER *
