BEGIN_USGS_DOQ_HEADER *
QUADRANGLE_NAME "LAKEVIEW" *
WEST_LONGITUDE -120 22 30.000 *
EAST_LONGITUDE -120 15 0.000 *
NORTH_LATITUDE 42 15 0.000 *
SOUTH_LATITUDE 42 7 30.000 *
PRODUCTION_DATE 1999 09 27 *
RASTER_ORDER LEFT_RIGHT/TOP_BOTTOM *
BAND_ORGANIZATION "SINGLE FILE" *
BAND_CONTENT BLACK&WHITE *
BITS_PER_PIXEL 8 *
SAMPLES_AND_LINES 11360 14805 *
HORIZONTAL_DATUM NAD83 *
HORIZONTAL_COORDINATE_SYSTEM UTM *
COORDINATE_ZONE 10 *
HORIZONTAL_UNITS METERS *
HORIZONTAL_RESOLUTION 1.000000 *
SECONDARY_HORIZONTAL_DATUM NAD27 *
XY_ORIGIN 716163.524 4681479.478 *
SECONDARY_XY_ORIGIN 716257.500 4681281.500 *
NATION US *
STATE OR *
NW_QUAD_CORNER_XY 716550.641 4680870.635 *
NE_QUAD_CORNER_XY 726863.329 4681196.115 *
SE_QUAD_CORNER_XY 727311.083 4667315.462 *
SW_QUAD_CORNER_XY 716978.009 4666990.122 *
SECONDARY_NW_QUAD_XY 716556.646 4680656.802 *
SECONDARY_NE_QUAD_XY 726869.620 4680982.292 *
SECONDARY_SE_QUAD_XY 727317.368 4667101.826 *
SECONDARY_SW_QUAD_XY 716984.008 4666776.477 *
RMSE_XY 10.00 *
IMAGE_SOURCE "BLACK AND WHITE FILM" *
SOURCE_IMAGE_ID "NAPP 7108 84" *
SOURCE_IMAGE_DATE 1994 07 12 *
IMAGE_SOURCE "BLACK AND WHITE FILM" *
SOURCE_IMAGE_ID "NAPP 7100 135" *
SOURCE_IMAGE_DATE 1994 06 30 *
IMAGE_SOURCE "BLACK AND WHITE FILM" *
SOURCE_IMAGE_ID "NAPP 7108 82" *
SOURCE_IMAGE_DATE 1994 07 12 *
IMAGE_SOURCE "BLACK AND WHITE FILM" *
SOURCE_IMAGE_ID "NAPP 7100 137" *
SOURCE_IMAGE_DATE 1994 06 30 *
SOURCE_DEM_DATE 1980 00 00 *
AGENCY "WESTERN MAPPING CENTER (WMC)" *
PRODUCER "USDA FS REGION 6" *
PRODUCTION_SYSTEM "INTERGRAPH MODEL_SETUP, BASE_RECTIFIER" *
STANDARD_VERSION 1996 12 *
METADATA_DATE 1999 09 27 *
DATA_FILE_SIZE 168196160 *
BYTE_COUNT 11360 * * * * * * * * * * * * * * * * * * * * * * * * * * * * * * * * * * * * * * * * * * * * * * * * * * * * * * * * * * * * * * * * * * * * * * * * * * * * * * * * * * * * * * * * * * *
END_USGS_HEADER *
