BEGIN_USGS_DOQ_HEADER *
QUADRANGLE_NAME "ARKANSAS FLAT" *
WEST_LONGITUDE -120 52 30.000 *
EAST_LONGITUDE -120 45 0.000 *
NORTH_LATITUDE 42 15 0.000 *
SOUTH_LATITUDE 42 7 30.000 *
PRODUCTION_DATE 2001 11 28 *
RASTER_ORDER LEFT_RIGHT/TOP_BOTTOM *
BAND_ORGANIZATION "SINGLE FILE" *
BAND_CONTENT BLACK&WHITE *
BITS_PER_PIXEL 8 *
SAMPLES_AND_LINES 11280 14744 *
HORIZONTAL_DATUM "NAD83" *
HORIZONTAL_COORDINATE_SYSTEM UTM *
COORDINATE_ZONE 10 *
HORIZONTAL_UNITS METERS *
HORIZONTAL_RESOLUTION 1.00 *
SECONDARY_HORIZONTAL_DATUM "NAD27" *
XY_ORIGIN 675000.496 4680284.505 *
SECONDARY_XY_ORIGIN 675094.648 4680086.573 *
NATION US *
STATE OR *
NW_QUAD_CORNER_XY 675300.841 4679720.304 *
NE_QUAD_CORNER_XY 685613.158 4679985.155 *
SE_QUAD_CORNER_XY 685979.395 4666105.026 *
SW_QUAD_CORNER_XY 675646.709 4665840.291 *
SECONDARY_NW_QUAD_XY 675305.702 4679506.440 *
SECONDARY_NE_QUAD_XY 685618.304 4679771.298 *
SECONDARY_SE_QUAD_XY 685984.536 4665891.356 *
SECONDARY_SW_QUAD_XY 675651.565 4665626.613 *
RMSE_XY 10.00 *
IMAGE_SOURCE "BLACK & WHITE FILM" *
SOURCE_IMAGE_ID "NAPP 12244-222" *
SOURCE_IMAGE_DATE 2000 7 22 *
SOURCE_IMAGE_ID "NAPP 12244-199" *
SOURCE_IMAGE_DATE 2000 7 22 *
SOURCE_IMAGE_ID "NAPP 12244-201" *
SOURCE_IMAGE_DATE 2000 7 22 *
SOURCE_IMAGE_ID "NAPP 12244-220" *
SOURCE_IMAGE_DATE 2000 7 22 *
SOURCE_DEM_DATE 1999 1 1 *
AGENCY "WESTERN MAPPING CENTER (WMC)" *
PRODUCER "USDA FS REGION 6" *
PRODUCTION_SYSTEM "PIXMAP V1.0 ON I386 LINUX" *
STANDARD_VERSION 1996 12 *
METADATA_DATE 2002 12 3 *
DATA_FILE_SIZE 166323600 *
BYTE_COUNT 11280 * CONTRACTOR "PIXXURES, INC." * * * * * * * * * * * * * * * * * * * * * * * * * * * * * * * * * * * * * * * * * * * * * * * * * * * * * * * * * * * * * * * * * * * * * * * * * * * * * * * * * * * * * * * * * * * *
END_USGS_HEADER *
