BEGIN_USGS_DOQ_HEADER *
QUADRANGLE_NAME "BRADY BUTTE" *
WEST_LONGITUDE -121 07 30.000 *
EAST_LONGITUDE -121 00 00.000 *
NORTH_LATITUDE 042 07 30.00 *
SOUTH_LATITUDE 042 00 00.00 *
PRODUCTION_DATE 2003 08 04 *
RASTER_ORDER LEFT_RIGHT/TOP_BOTTOM *
BAND_ORGANIZATION "SINGLE FILE" *
BAND_CONTENT BLACK&WHITE *
BITS_PER_PIXEL 8 *
SAMPLES_AND_LINES 11348 14730 *
HORIZONTAL_DATUM NAD83 *
HORIZONTAL_COORDINATE_SYSTEM UTM *
COORDINATE_ZONE 10 *
HORIZONTAL_UNITS METERS *
HORIZONTAL_RESOLUTION 1.000 *
SECONDARY_HORIZONTAL_DATUM NAD27 *
XY_ORIGIN 654590.995 4665891.000 *
SECONDARY_XY_ORIGIN 654685.694 4665692.938 *
NATION US *
STATE OR *
NW_QUAD_CORNER_XY 654981.589 4665356.247 *
NE_QUAD_CORNER_XY 665314.109 4665590.698 *
SE_QUAD_CORNER_XY 665638.822 4651711.059 *
SW_QUAD_CORNER_XY 655285.990 4651476.714 *
SECONDARY_NW_QUAD_XY 654985.873 4665142.556 *
SECONDARY_NE_QUAD_XY 665318.679 4665377.014 *
SECONDARY_SE_QUAD_XY 665643.388 4651497.566 *
SECONDARY_SW_QUAD_XY 655290.270 4651263.214 *
RMSE_XY 1.74852 *
IMAGE_SOURCE "Black & White film" *
SOURCE_IMAGE_ID "NAPP 12245 070" *
SOURCE_IMAGE_DATE 2000 07 23 *
SOURCE_IMAGE_ID "NAPP 12245 072" *
SOURCE_IMAGE_DATE 2000 07 23 *
SOURCE_IMAGE_ID "NAPP 12245 083" *
SOURCE_IMAGE_DATE 2000 07 23 *
SOURCE_IMAGE_ID "NAPP 12245 085" *
SOURCE_IMAGE_DATE 2000 07 23 *
SOURCE_DEM_DATE 1999 12 01 *
AGENCY "Western Mapping Center (WMC)" *
PRODUCER "State of Oregon" *
PRODUCTION_SYSTEM "Pixmap v2.0 on i386 Linux" *
STANDARD_VERSION 1996 12 *
METADATA_DATE 2003 08 24 *
DATA_FILE_SIZE 167167388 *
BYTE_COUNT 11348 * USGS_GRID 4212164 * * * * * * * * * * * * * * * * * * * * * * * * * * * * * * * * * * * * * * * * * * * * * * * * * * * * * * * * * * * * * * * * * * * * * * * * * * * * * * * * * * * * * * * * * * * * *
END_USGS_HEADER *
