BEGIN_USGS_DOQ_HEADER *
QUADRANGLE_NAME "LANGELL VALLEY" *
WEST_LONGITUDE -121 15 00.000 *
EAST_LONGITUDE -121 07 30.000 *
NORTH_LATITUDE 042 07 30.00 *
SOUTH_LATITUDE 042 00 00.00 *
PRODUCTION_DATE 2003 08 04 *
RASTER_ORDER LEFT_RIGHT/TOP_BOTTOM *
BAND_ORGANIZATION "SINGLE FILE" *
BAND_CONTENT BLACK&WHITE *
BITS_PER_PIXEL 8 *
SAMPLES_AND_LINES 11328 14715 *
HORIZONTAL_DATUM NAD83 *
HORIZONTAL_COORDINATE_SYSTEM UTM *
COORDINATE_ZONE 10 *
HORIZONTAL_UNITS METERS *
HORIZONTAL_RESOLUTION 1.000 *
SECONDARY_HORIZONTAL_DATUM NAD27 *
XY_ORIGIN 644257.995 4665657.000 *
SECONDARY_XY_ORIGIN 644352.932 4665458.921 *
NATION US *
STATE OR *
NW_QUAD_CORNER_XY 644649.144 4665136.933 *
NE_QUAD_CORNER_XY 654981.589 4665356.247 *
SE_QUAD_CORNER_XY 655285.990 4651476.714 *
SW_QUAD_CORNER_XY 644933.236 4651257.500 *
SECONDARY_NW_QUAD_XY 644653.143 4664923.236 *
SECONDARY_NE_QUAD_XY 654985.873 4665142.556 *
SECONDARY_SE_QUAD_XY 655290.270 4651263.214 *
SECONDARY_SW_QUAD_XY 644937.231 4651043.994 *
RMSE_XY 1.50072 *
IMAGE_SOURCE "Black & White film" *
SOURCE_IMAGE_ID "NAPP 12246 067" *
SOURCE_IMAGE_DATE 2000 07 23 *
SOURCE_IMAGE_ID "NAPP 12246 069" *
SOURCE_IMAGE_DATE 2000 07 23 *
SOURCE_IMAGE_ID "NAPP 12251 063" *
SOURCE_IMAGE_DATE 2000 07 25 *
SOURCE_IMAGE_ID "NAPP 12251 065" *
SOURCE_IMAGE_DATE 2000 07 25 *
SOURCE_DEM_DATE 1999 12 01 *
AGENCY "Western Mapping Center (WMC)" *
PRODUCER "State of Oregon" *
PRODUCTION_SYSTEM "Pixmap v2.0 on i386 Linux" *
STANDARD_VERSION 1996 12 *
METADATA_DATE 2003 08 24 *
DATA_FILE_SIZE 166702848 *
BYTE_COUNT 11328 * USGS_GRID 4212163 * * * * * * * * * * * * * * * * * * * * * * * * * * * * * * * * * * * * * * * * * * * * * * * * * * * * * * * * * * * * * * * * * * * * * * * * * * * * * * * * * * * * * * * * * * * * *
END_USGS_HEADER *
