BEGIN_USGS_DOQ_HEADER *
QUADRANGLE_NAME "BRYANT MOUNTAIN" *
WEST_LONGITUDE -121 22 30.000 *
EAST_LONGITUDE -121 15 00.000 *
NORTH_LATITUDE 042 07 30.00 *
SOUTH_LATITUDE 042 00 00.00 *
PRODUCTION_DATE 2003 08 04 *
RASTER_ORDER LEFT_RIGHT/TOP_BOTTOM *
BAND_ORGANIZATION "SINGLE FILE" *
BAND_CONTENT BLACK&WHITE *
BITS_PER_PIXEL 8 *
SAMPLES_AND_LINES 11309 14699 *
HORIZONTAL_DATUM NAD83 *
HORIZONTAL_COORDINATE_SYSTEM UTM *
COORDINATE_ZONE 10 *
HORIZONTAL_UNITS METERS *
HORIZONTAL_RESOLUTION 1.000 *
SECONDARY_HORIZONTAL_DATUM NAD27 *
XY_ORIGIN 633924.995 4665437.000 *
SECONDARY_XY_ORIGIN 634019.783 4665238.988 *
NATION US *
STATE OR *
NW_QUAD_CORNER_XY 634316.769 4664932.755 *
NE_QUAD_CORNER_XY 644649.144 4665136.933 *
SE_QUAD_CORNER_XY 644933.236 4651257.500 *
SW_QUAD_CORNER_XY 634580.556 4651053.415 *
SECONDARY_NW_QUAD_XY 634320.482 4664719.053 *
SECONDARY_NE_QUAD_XY 644653.143 4664923.236 *
SECONDARY_SE_QUAD_XY 644937.231 4651043.994 *
SECONDARY_SW_QUAD_XY 634584.265 4650839.903 *
RMSE_XY 1.75986 *
IMAGE_SOURCE "Black & White film" *
SOURCE_IMAGE_ID "NAPP 12251 205" *
SOURCE_IMAGE_DATE 2000 07 25 *
SOURCE_IMAGE_ID "NAPP 12251 207" *
SOURCE_IMAGE_DATE 2000 07 25 *
SOURCE_IMAGE_ID "NAPP 12251 076" *
SOURCE_IMAGE_DATE 2000 07 25 *
SOURCE_IMAGE_ID "NAPP 12251 078" *
SOURCE_IMAGE_DATE 2000 07 25 *
SOURCE_DEM_DATE 1999 12 01 *
AGENCY "Western Mapping Center (WMC)" *
PRODUCER "State of Oregon" *
PRODUCTION_SYSTEM "Pixmap v2.0 on i386 Linux" *
STANDARD_VERSION 1996 12 *
METADATA_DATE 2003 08 24 *
DATA_FILE_SIZE 166242300 *
BYTE_COUNT 11309 * USGS_GRID 4212162 * * * * * * * * * * * * * * * * * * * * * * * * * * * * * * * * * * * * * * * * * * * * * * * * * * * * * * * * * * * * * * * * * * * * * * * * * * * * * * * * * * * * * * * * * * * * *
END_USGS_HEADER *
