BEGIN_USGS_DOQ_HEADER *
QUADRANGLE_NAME "BRYANT MOUNTAIN" 3.45 or 7.5-min. name*
QUADRANT SW quadrant indicator if cell size = 3.75-minutes*
WEST_LONGITUDE -121 22 30.000 signed deg min sec SDDD MM SS.SSS*
EAST_LONGITUDE -121 18 45.000 signed deg min sec SDDD MM SS.SSS*
NORTH_LATITUDE 42 3 45.000 signed deg min sec SDDD MM SS.SSS*
SOUTH_LATITUDE 42 0 0.000 signed deg min sec SDDD MM SS.SSS*
PRODUCTION_DATE 1996 4 2 yyyy mm dd*
RASTER_ORDER LEFT_RIGHT/TOP_BOTTOM video display order*
BAND_ORGANIZATION "SINGLE FILE" single file or BSQ, or BIL or BIP*
BAND_CONTENT BLACK&WHITE black&white or red green blue*
BITS_PER_PIXEL 8 radiometric resolution*
SAMPLES_AND_LINES 6000 7658 number of columns and rows*
HORIZONTAL_DATUM NAD83 primary horizontal datum*
HORIZONTAL_COORDINATE_SYSTEM UTM *
COORDINATE_ZONE 10 coordinate system zone number*
HORIZONTAL_UNITS METERS coordinate system units*
HORIZONTAL_RESOLUTION 1.00 pixel horiz. ground sample distance*
SECONDARY_HORIZONTAL_DATUM NAD27 secondary horizontal datum*
XY_ORIGIN 634057.000 4658394.000 coord. of upper left pixel pri. datum*
SECONDARY_XY_ORIGIN 634151.726 4658195.874 coord upper left pixel sec datum*
NATION US nation code*
STATE OR state fip code*
NW_QUAD_CORNER_XY 634448.743 4657993.050 XY coords. of pri. NW quad corner*
NE_QUAD_CORNER_XY 639620.001 4658093.225 XY coords. of pri. NE quad corner*
SE_QUAD_CORNER_XY 639756.887 4651153.567 XY coords. of pri. SE quad corner*
SW_QUAD_CORNER_XY 634580.556 4651053.415 XY coords. of pri. SW quad corner*
SECONDARY_NW_QUAD_XY 634452.454 4657779.443 XY coords. - sec. NW quad cor.*
SECONDARY_NE_QUAD_XY 639623.855 4657879.620 XY coords. - sec. NE quad cor.*
SECONDARY_SE_QUAD_XY 639760.739 4650940.058 XY coords. - sec. SE quad cor.*
SECONDARY_SW_QUAD_XY 634584.265 4650839.903 XY coords. - sec. SW quad cor.*
RMSE_XY 1.10 doq horiz. accuracy*
IMAGE_SOURCE "BLACK AND WHITE FILM" b&w, cir, natural color, other*
SOURCE_IMAGE_ID "NAPP 7109 238" source image id*
SOURCE_IMAGE_DATE 1994 7 14 source image date as yyyy mm dd*
SOURCE_DEM_DATE 1996 4 2 source dem date yyyy mm dd*
AGENCY "WESTERN MAPPING CENTER (WMC)" oversight agency*
PRODUCER "WMC" producer/contractor*
PRODUCTION_SYSTEM "DV2.6.3 10/9OV2.4 5/95" production system*
STANDARD_VERSION 1996 12 version of DOQ standard*
METADATA_DATE 1997 7 21 date created or changed, yyyy mm dd*
DATA_FILE_SIZE 45954000 data set size in bytes*
BYTE_COUNT 6000 header byte count* * * * * * * * * * * * * * * * * * * * * * * * * * * * * * * *
END_USGS_HEADER *
