BEGIN_USGS_DOQ_HEADER *
QUADRANGLE_NAME MALIN *
WEST_LONGITUDE -121 30 00.000 *
EAST_LONGITUDE -121 22 30.000 *
NORTH_LATITUDE 042 07 30.00 *
SOUTH_LATITUDE 042 00 00.00 *
PRODUCTION_DATE 2003 08 04 *
RASTER_ORDER LEFT_RIGHT/TOP_BOTTOM *
BAND_ORGANIZATION "SINGLE FILE" *
BAND_CONTENT BLACK&WHITE *
BITS_PER_PIXEL 8 *
SAMPLES_AND_LINES 11288 14684 *
HORIZONTAL_DATUM NAD83 *
HORIZONTAL_COORDINATE_SYSTEM UTM *
COORDINATE_ZONE 10 *
HORIZONTAL_UNITS METERS *
HORIZONTAL_RESOLUTION 1.000 *
SECONDARY_HORIZONTAL_DATUM NAD27 *
XY_ORIGIN 623592.995 4665233.000 *
SECONDARY_XY_ORIGIN 623687.636 4665035.055 *
NATION US *
STATE OR *
NW_QUAD_CORNER_XY 623984.459 4664743.711 *
NE_QUAD_CORNER_XY 634316.769 4664932.755 *
SE_QUAD_CORNER_XY 634580.556 4651053.415 *
SW_QUAD_CORNER_XY 624227.943 4650864.456 *
SECONDARY_NW_QUAD_XY 623987.886 4664530.003 *
SECONDARY_NE_QUAD_XY 634320.482 4664719.053 *
SECONDARY_SE_QUAD_XY 634584.265 4650839.903 *
SECONDARY_SW_QUAD_XY 624231.367 4650650.939 *
RMSE_XY 1.85732 *
IMAGE_SOURCE "Black & White film" *
SOURCE_IMAGE_ID "NAPP 12251 218" *
SOURCE_IMAGE_DATE 2000 07 25 *
SOURCE_IMAGE_ID "NAPP 12251 220" *
SOURCE_IMAGE_DATE 2000 07 25 *
SOURCE_IMAGE_ID "NAPP 12252 031" *
SOURCE_IMAGE_DATE 2000 07 25 *
SOURCE_IMAGE_ID "NAPP 12252 033" *
SOURCE_IMAGE_DATE 2000 07 25 *
SOURCE_DEM_DATE 1999 12 01 *
AGENCY "Western Mapping Center (WMC)" *
PRODUCER "State of Oregon" *
PRODUCTION_SYSTEM "Pixmap v2.0 on i386 Linux" *
STANDARD_VERSION 1996 12 *
METADATA_DATE 2003 08 24 *
DATA_FILE_SIZE 165764280 *
BYTE_COUNT 11288 * USGS_GRID 4212161 * * * * * * * * * * * * * * * * * * * * * * * * * * * * * * * * * * * * * * * * * * * * * * * * * * * * * * * * * * * * * * * * * * * * * * * * * * * * * * * * * * * * * * * * * * * * *
END_USGS_HEADER *
