BEGIN_USGS_DOQ_HEADER *
QUADRANGLE_NAME MERRILL *
WEST_LONGITUDE -121 37 30.000 *
EAST_LONGITUDE -121 30 00.000 *
NORTH_LATITUDE 042 07 30.00 *
SOUTH_LATITUDE 042 00 00.00 *
PRODUCTION_DATE 2003 08 04 *
RASTER_ORDER LEFT_RIGHT/TOP_BOTTOM *
BAND_ORGANIZATION "SINGLE FILE" *
BAND_CONTENT BLACK&WHITE *
BITS_PER_PIXEL 8 *
SAMPLES_AND_LINES 11268 14669 *
HORIZONTAL_DATUM NAD83 *
HORIZONTAL_COORDINATE_SYSTEM UTM *
COORDINATE_ZONE 10 *
HORIZONTAL_UNITS METERS *
HORIZONTAL_RESOLUTION 1.000 *
SECONDARY_HORIZONTAL_DATUM NAD27 *
XY_ORIGIN 613259.995 4665044.000 *
SECONDARY_XY_ORIGIN 613354.563 4664846.100 *
NATION US *
STATE OR *
NW_QUAD_CORNER_XY 613652.209 4664569.797 *
NE_QUAD_CORNER_XY 623984.459 4664743.711 *
SE_QUAD_CORNER_XY 624227.943 4650864.456 *
SW_QUAD_CORNER_XY 613875.393 4650690.622 *
SECONDARY_NW_QUAD_XY 613655.351 4664356.085 *
SECONDARY_NE_QUAD_XY 623987.886 4664530.003 *
SECONDARY_SE_QUAD_XY 624231.367 4650650.939 *
SECONDARY_SW_QUAD_XY 613878.532 4650477.100 *
RMSE_XY 1.81369 *
IMAGE_SOURCE "Black & White film" *
SOURCE_IMAGE_ID "NAPP 12252 153" *
SOURCE_IMAGE_DATE 2000 07 25 *
SOURCE_IMAGE_ID "NAPP 12252 155" *
SOURCE_IMAGE_DATE 2000 07 25 *
SOURCE_IMAGE_ID "NAPP 12252 044" *
SOURCE_IMAGE_DATE 2000 07 25 *
SOURCE_IMAGE_ID "NAPP 12252 046" *
SOURCE_IMAGE_DATE 2000 07 25 *
SOURCE_DEM_DATE 2000 03 09 *
AGENCY "Western Mapping Center (WMC)" *
PRODUCER "State of Oregon" *
PRODUCTION_SYSTEM "Pixmap v2.0 on i386 Linux" *
STANDARD_VERSION 1996 12 *
METADATA_DATE 2003 08 24 *
DATA_FILE_SIZE 165301560 *
BYTE_COUNT 11268 * USGS_GRID 4212160 * * * * * * * * * * * * * * * * * * * * * * * * * * * * * * * * * * * * * * * * * * * * * * * * * * * * * * * * * * * * * * * * * * * * * * * * * * * * * * * * * * * * * * * * * * * *
END_USGS_HEADER *
