BEGIN_USGS_DOQ_HEADER *
QUADRANGLE_NAME "LOST RIVER" *
WEST_LONGITUDE -121 45 00.000 *
EAST_LONGITUDE -121 37 30.000 *
NORTH_LATITUDE 042 07 30.00 *
SOUTH_LATITUDE 042 00 00.00 *
PRODUCTION_DATE 2003 08 04 *
RASTER_ORDER LEFT_RIGHT/TOP_BOTTOM *
BAND_ORGANIZATION "SINGLE FILE" *
BAND_CONTENT BLACK&WHITE *
BITS_PER_PIXEL 8 *
SAMPLES_AND_LINES 11248 14654 *
HORIZONTAL_DATUM NAD83 *
HORIZONTAL_COORDINATE_SYSTEM UTM *
COORDINATE_ZONE 10 *
HORIZONTAL_UNITS METERS *
HORIZONTAL_RESOLUTION 1.000 *
SECONDARY_HORIZONTAL_DATUM NAD27 *
XY_ORIGIN 602927.995 4664870.000 *
SECONDARY_XY_ORIGIN 603022.496 4664672.146 *
NATION US *
STATE CA *
STATE OR *
NW_QUAD_CORNER_XY 603320.014 4664411.013 *
NE_QUAD_CORNER_XY 613652.209 4664569.797 *
SE_QUAD_CORNER_XY 613875.393 4650690.622 *
SW_QUAD_CORNER_XY 603522.901 4650531.910 *
SECONDARY_NW_QUAD_XY 603322.870 4664197.297 *
SECONDARY_NE_QUAD_XY 613655.351 4664356.085 *
SECONDARY_SE_QUAD_XY 613878.532 4650477.100 *
SECONDARY_SW_QUAD_XY 603525.755 4650318.384 *
RMSE_XY 1.7594 *
IMAGE_SOURCE "Black & White film" *
SOURCE_IMAGE_ID "NAPP 12252 166" *
SOURCE_IMAGE_DATE 2000 07 25 *
SOURCE_IMAGE_ID "NAPP 12252 168" *
SOURCE_IMAGE_DATE 2000 07 25 *
SOURCE_IMAGE_ID "NAPP 12259 015" *
SOURCE_IMAGE_DATE 2000 07 28 *
SOURCE_IMAGE_ID "NAPP 12259 017" *
SOURCE_IMAGE_DATE 2000 07 28 *
SOURCE_DEM_DATE 2000 03 09 *
AGENCY "Western Mapping Center (WMC)" *
PRODUCER "State of Oregon" *
PRODUCTION_SYSTEM "Pixmap v2.0 on i386 Linux" *
STANDARD_VERSION 1996 12 *
METADATA_DATE 2003 08 24 *
DATA_FILE_SIZE 164839440 *
BYTE_COUNT 11248 * USGS_GRID 4212159 * * * * * * * * * * * * * * * * * * * * * * * * * * * * * * * * * * * * * * * * * * * * * * * * * * * * * * * * * * * * * * * * * * * * * * * * * * * * * * * * * * * * * * * * * * *
END_USGS_HEADER *
