BEGIN_USGS_DOQ_HEADER *
QUADRANGLE_NAME WORDEN *
WEST_LONGITUDE -121 52 30.000 *
EAST_LONGITUDE -121 45 00.000 *
NORTH_LATITUDE 042 07 30.00 *
SOUTH_LATITUDE 042 00 00.00 *
PRODUCTION_DATE 2003 08 01 *
RASTER_ORDER LEFT_RIGHT/TOP_BOTTOM *
BAND_ORGANIZATION "SINGLE FILE" *
BAND_CONTENT BLACK&WHITE *
BITS_PER_PIXEL 8 *
SAMPLES_AND_LINES 11228 14640 *
HORIZONTAL_DATUM NAD83 *
HORIZONTAL_COORDINATE_SYSTEM UTM *
COORDINATE_ZONE 10 *
HORIZONTAL_UNITS METERS *
HORIZONTAL_RESOLUTION 1.000 *
SECONDARY_HORIZONTAL_DATUM NAD27 *
XY_ORIGIN 592594.995 4664712.000 *
SECONDARY_XY_ORIGIN 592689.657 4664514.210 *
NATION US *
STATE CA *
STATE OR *
NW_QUAD_CORNER_XY 592987.870 4664267.357 *
NE_QUAD_CORNER_XY 603320.014 4664411.013 *
SE_QUAD_CORNER_XY 603522.901 4650531.910 *
SW_QUAD_CORNER_XY 593170.462 4650388.319 *
SECONDARY_NW_QUAD_XY 592990.440 4664053.636 *
SECONDARY_NE_QUAD_XY 603322.870 4664197.297 *
SECONDARY_SE_QUAD_XY 603525.755 4650318.384 *
SECONDARY_SW_QUAD_XY 593173.030 4650174.789 *
RMSE_XY 1.65397 *
IMAGE_SOURCE "Black & White film" *
SOURCE_IMAGE_ID "NAPP 12260 122" *
SOURCE_IMAGE_DATE 2000 07 28 *
SOURCE_IMAGE_ID "NAPP 12260 124" *
SOURCE_IMAGE_DATE 2000 07 28 *
SOURCE_IMAGE_ID "NAPP 12292 111" *
SOURCE_IMAGE_DATE 2001 07 13 *
SOURCE_IMAGE_ID "NAPP 12292 113" *
SOURCE_IMAGE_DATE 2001 07 13 *
SOURCE_DEM_DATE 2000 03 09 *
AGENCY "Western Mapping Center (WMC)" *
PRODUCER "State of Oregon" *
PRODUCTION_SYSTEM "Pixmap v2.0 on i386 Linux" *
STANDARD_VERSION 1996 12 *
METADATA_DATE 2003 08 24 *
DATA_FILE_SIZE 164389148 *
BYTE_COUNT 11228 * USGS_GRID 4212158 * * * * * * * * * * * * * * * * * * * * * * * * * * * * * * * * * * * * * * * * * * * * * * * * * * * * * * * * * * * * * * * * * * * * * * * * * * * * * * * * * * * * * * * * * * *
END_USGS_HEADER *
