BEGIN_USGS_DOQ_HEADER *
QUADRANGLE_NAME "WORDEN" 3.45 or 7.5-min. name*
QUADRANT NW quadrant indicator if cell size = 3.75-minutes*
WEST_LONGITUDE -121 52 30.000 signed deg min sec SDDD MM SS.SSS*
EAST_LONGITUDE -121 48 45.000 signed deg min sec SDDD MM SS.SSS*
NORTH_LATITUDE 42 7 30.000 signed deg min sec SDDD MM SS.SSS*
SOUTH_LATITUDE 42 3 45.000 signed deg min sec SDDD MM SS.SSS*
PRODUCTION_DATE 1997 12 2 yyyy mm dd*
RASTER_ORDER left_right/top_bottom video display order*
BAND_ORGANIZATION "single file" single file or BSQ, or BIL or BIP*
BAND_CONTENT BLACK&WHITE black&white or red green blue*
BITS_PER_PIXEL 8 radiometric resolution*
SAMPLES_AND_LINES 5966 7637 number of columns and rows*
HORIZONTAL_DATUM NAD83 primary horizontal datum*
HORIZONTAL_COORDINATE_SYSTEM UTM *
COORDINATE_ZONE 10 coordinate system zone number*
HORIZONTAL_UNITS meters coordinate system units*
HORIZONTAL_RESOLUTION 1.00 pixel horiz. ground sample distance*
SECONDARY_HORIZONTAL_DATUM NAD27 secondary horizontal datum*
XY_ORIGIN 592590.000 4664643.000 coord. of upper left pixel pri. datum*
SECONDARY_XY_ORIGIN 592684.662 4664445.210 coord upper left pixel sec datum*
NATION US nation code*
STATE CA state fip code*
STATE OR state fip code*
NW_QUAD_CORNER_XY 592987.870 4664267.357 XY coords. of pri. NW quad corner*
NE_QUAD_CORNER_XY 598153.936 4664337.294 XY coords. of pri. NE quad corner*
SE_QUAD_CORNER_XY 598250.364 4657397.723 XY coords. of pri. SE quad corner*
SW_QUAD_CORNER_XY 593079.221 4657327.802 XY coords. of pri. SW quad corner*
SECONDARY_NW_QUAD_XY 592990.440 4664053.636 XY coords. - sec. NW quad cor.*
SECONDARY_NE_QUAD_XY 598156.649 4664123.575 XY coords. - sec. NE quad cor.*
SECONDARY_SE_QUAD_XY 598253.076 4657184.099 XY coords. - sec. SE quad cor.*
SECONDARY_SW_QUAD_XY 593081.791 4657114.176 XY coords. - sec. SW quad cor.*
RMSE_XY 1.35 doq horiz. accuracy*
IMAGE_SOURCE "BLACK AND WHITE FILM" b&w, cir, natural color, other*
SOURCE_IMAGE_ID "NAPP 6217-137" source image id*
SOURCE_IMAGE_DATE 1993 7 30 source image date as yyyy mm dd*
SOURCE_DEM_DATE 1997 2 1 source dem date yyyy mm dd*
AGENCY "WESTERN MAPPING CENTER (WMC)" oversight agency*
PRODUCER "WOOLPERT LLP" producer/contractor*
PRODUCTION_SYSTEM "INTERGRAPH ISPM, ISIR" production system*
STANDARD_VERSION 1996 12 version of DOQ standard*
METADATA_DATE 1997 12 2 date created or changed, yyyy mm dd*
DATA_FILE_SIZE 45568308 data set size in bytes*
BYTE_COUNT 5966 header byte count* * * * * * * * * * * * * * * * * * * * * * * * * * * * * * *
END_USGS_HEADER *
