BEGIN_USGS_DOQ_HEADER *
QUADRANGLE_NAME "HAMAKER MOUNTAIN" *
WEST_LONGITUDE -122 00 00.000 *
EAST_LONGITUDE -121 52 30.000 *
NORTH_LATITUDE 042 07 30.00 *
SOUTH_LATITUDE 042 00 00.00 *
PRODUCTION_DATE 2003 07 31 *
RASTER_ORDER LEFT_RIGHT/TOP_BOTTOM *
BAND_ORGANIZATION "SINGLE FILE" *
BAND_CONTENT BLACK&WHITE *
BITS_PER_PIXEL 8 *
SAMPLES_AND_LINES 11208 14624 *
HORIZONTAL_DATUM NAD83 *
HORIZONTAL_COORDINATE_SYSTEM UTM *
COORDINATE_ZONE 10 *
HORIZONTAL_UNITS METERS *
HORIZONTAL_RESOLUTION 1.000 *
SECONDARY_HORIZONTAL_DATUM NAD27 *
XY_ORIGIN 582262.995 4664568.000 *
SECONDARY_XY_ORIGIN 582357.814 4664370.273 *
NATION US *
STATE CA *
STATE OR *
NW_QUAD_CORNER_XY 582655.770 4664138.826 *
NE_QUAD_CORNER_XY 592987.870 4664267.357 *
SE_QUAD_CORNER_XY 593170.462 4650388.319 *
SW_QUAD_CORNER_XY 582818.069 4650259.847 *
SECONDARY_NW_QUAD_XY 582658.055 4663925.102 *
SECONDARY_NE_QUAD_XY 592990.440 4664053.636 *
SECONDARY_SE_QUAD_XY 593173.030 4650174.789 *
SECONDARY_SW_QUAD_XY 582820.352 4650046.314 *
RMSE_XY 1.63193 *
IMAGE_SOURCE "Black & White film" *
SOURCE_IMAGE_ID "NAPP 12260 208" *
SOURCE_IMAGE_DATE 2000 07 28 *
SOURCE_IMAGE_ID "NAPP 12260 210" *
SOURCE_IMAGE_DATE 2000 07 28 *
SOURCE_IMAGE_ID "NAPP 12270 113" *
SOURCE_IMAGE_DATE 2000 08 05 *
SOURCE_IMAGE_ID "NAPP 12270 115" *
SOURCE_IMAGE_DATE 2000 08 05 *
SOURCE_DEM_DATE 2000 03 09 *
AGENCY "Western Mapping Center (WMC)" *
PRODUCER "State of Oregon" *
PRODUCTION_SYSTEM "Pixmap v2.0 on i386 Linux" *
STANDARD_VERSION 1996 12 *
METADATA_DATE 2003 08 24 *
DATA_FILE_SIZE 163917000 *
BYTE_COUNT 11208 * USGS_GRID 4212157 * * * * * * * * * * * * * * * * * * * * * * * * * * * * * * * * * * * * * * * * * * * * * * * * * * * * * * * * * * * * * * * * * * * * * * * * * * * * * * * * * * * * * * * * * * *
END_USGS_HEADER *
