BEGIN_USGS_DOQ_HEADER *
QUADRANGLE_NAME "HAMAKER MOUNTAIN" 3.45 or 7.5-min. name*
QUADRANT SW quadrant indicator if cell size = 3.75-minutes*
WEST_LONGITUDE -122 0 0.000 signed deg min sec SDDD MM SS.SSS*
EAST_LONGITUDE -121 56 15.000 signed deg min sec SDDD MM SS.SSS*
NORTH_LATITUDE 42 3 45.000 signed deg min sec SDDD MM SS.SSS*
SOUTH_LATITUDE 42 0 0.000 signed deg min sec SDDD MM SS.SSS*
PRODUCTION_DATE 1996 3 26 yyyy mm dd*
RASTER_ORDER LEFT_RIGHT/TOP_BOTTOM video display order*
BAND_ORGANIZATION "SINGLE FILE" single file or BSQ, or BIL or BIP*
BAND_CONTENT BLACK&WHITE black&white or red green blue*
BITS_PER_PIXEL 8 radiometric resolution*
SAMPLES_AND_LINES 5952 7621 number of columns and rows*
HORIZONTAL_DATUM NAD83 primary horizontal datum*
HORIZONTAL_COORDINATE_SYSTEM UTM *
COORDINATE_ZONE 10 coordinate system zone number*
HORIZONTAL_UNITS METERS coordinate system units*
HORIZONTAL_RESOLUTION 1.00 pixel horiz. ground sample distance*
SECONDARY_HORIZONTAL_DATUM NAD27 secondary horizontal datum*
XY_ORIGIN 582343.000 4657563.000 coord. of upper left pixel pri. datum*
SECONDARY_XY_ORIGIN 582437.000 4657366.000 coord upper left pixel sec datum*
NATION US nation code*
STATE OR state fip code*
STATE CA state fip code*
NW_QUAD_CORNER_XY 582736.969 4657199.300 XY coords. of pri. NW quad corner*
NE_QUAD_CORNER_XY 587908.090 4657261.661 XY coords. of pri. NE quad corner*
SE_QUAD_CORNER_XY 587994.260 4650322.194 XY coords. of pri. SE quad corner*
SW_QUAD_CORNER_XY 582818.069 4650259.848 XY coords. of pri. SW quad corner*
SECONDARY_NW_QUAD_XY 582739.253 4656985.671 XY coords. - sec. NW quad cor.*
SECONDARY_NE_QUAD_XY 587910.516 4657048.033 XY coords. - sec. NE quad cor.*
SECONDARY_SE_QUAD_XY 587996.685 4650108.662 XY coords. - sec. SE quad cor.*
SECONDARY_SW_QUAD_XY 582820.352 4650046.314 XY coords. - sec. SW quad cor.*
RMSE_XY 1.50 doq horiz. accuracy*
IMAGE_SOURCE "BLACK AND WHITE FILM" b&w, cir, natural color, other*
SOURCE_IMAGE_ID "NAPP 7182 173" source image id*
SOURCE_IMAGE_DATE 1994 7 30 source image date as yyyy mm dd*
SOURCE_DEM_DATE 1996 3 26 source dem date yyyy mm dd*
AGENCY "WESTERN MAPPING CENTER (WMC)" oversight agency*
PRODUCER "WMC" producer/contractor*
PRODUCTION_SYSTEM "DV2.6.3 10/9OV2.4 5/95" production system*
STANDARD_VERSION 1996 12 version of DOQ standard*
METADATA_DATE 1997 7 21 date created or changed, yyyy mm dd*
DATA_FILE_SIZE 45366144 data set size in bytes*
BYTE_COUNT 5952 header byte count* * * * * * * * * * * * * * * * * * * * * * * * * * * * * * *
END_USGS_HEADER *
