BEGIN_USGS_DOQ_HEADER *
QUADRANGLE_NAME "GERBER RESERVOIR" *
WEST_LONGITUDE -121 7 30.000 *
EAST_LONGITUDE -121 0 0.000 *
NORTH_LATITUDE 42 15 0.000 *
SOUTH_LATITUDE 42 7 30.000 *
PRODUCTION_DATE 2002 3 6 *
RASTER_ORDER LEFT_RIGHT/TOP_BOTTOM *
BAND_ORGANIZATION "SINGLE FILE" *
BAND_CONTENT BLACK&WHITE *
BITS_PER_PIXEL 8 *
SAMPLES_AND_LINES 11239 14715 *
HORIZONTAL_DATUM "NAD83" *
HORIZONTAL_COORDINATE_SYSTEM UTM *
COORDINATE_ZONE 10 *
HORIZONTAL_UNITS METERS *
HORIZONTAL_RESOLUTION 1.00 *
SECONDARY_HORIZONTAL_DATUM "NAD27" *
XY_ORIGIN 654376.498 4679770.503 *
SECONDARY_XY_ORIGIN 654471.282 4679572.625 *
NATION US *
STATE OR *
NW_QUAD_CORNER_XY 654676.447 4679236.051 *
NE_QUAD_CORNER_XY 664988.606 4679470.604 *
SE_QUAD_CORNER_XY 665314.109 4665590.699 *
SW_QUAD_CORNER_XY 654981.589 4665356.247 *
SECONDARY_NW_QUAD_XY 654680.736 4679022.173 *
SECONDARY_NE_QUAD_XY 664993.180 4679256.733 *
SECONDARY_SE_QUAD_XY 665318.679 4665377.014 *
SECONDARY_SW_QUAD_XY 654985.873 4665142.556 *
RMSE_XY 10.00 *
IMAGE_SOURCE "BLACK & WHITE FILM" *
SOURCE_IMAGE_ID "NAPP 12245-89" *
SOURCE_IMAGE_DATE 2000 7 23 *
SOURCE_IMAGE_ID "NAPP 12245-66" *
SOURCE_IMAGE_DATE 2000 7 23 *
SOURCE_IMAGE_ID "NAPP 12245-68" *
SOURCE_IMAGE_DATE 2000 7 23 *
SOURCE_IMAGE_ID "NAPP 12245-87" *
SOURCE_IMAGE_DATE 2000 7 23 *
SOURCE_DEM_DATE 1999 1 1 *
AGENCY "WESTERN MAPPING CENTER (WMC)" *
PRODUCER "USDA FS REGION 6" *
PRODUCTION_SYSTEM "PIXMAP V1.0 ON I386 LINUX" *
STANDARD_VERSION 1996 12 *
METADATA_DATE 2002 11 22 *
DATA_FILE_SIZE 165393124 *
BYTE_COUNT 11239 * CONTRACTOR "PIXXURES, INC." * * * * * * * * * * * * * * * * * * * * * * * * * * * * * * * * * * * * * * * * * * * * * * * * * * * * * * * * * * * * * * * * * * * * * * * * * * * * * * * * * * * * * * * * * * * *
END_USGS_HEADER *
