BEGIN_USGS_DOQ_HEADER *
QUADRANGLE_NAME "GOODLOW MOUNTAIN" *
WEST_LONGITUDE -121 15 0.000 *
EAST_LONGITUDE -121 7 30.000 *
NORTH_LATITUDE 42 15 0.000 *
SOUTH_LATITUDE 42 7 30.000 *
PRODUCTION_DATE 2001 12 28 *
RASTER_ORDER LEFT_RIGHT/TOP_BOTTOM *
BAND_ORGANIZATION "SINGLE FILE" *
BAND_CONTENT BLACK&WHITE *
BITS_PER_PIXEL 8 *
SAMPLES_AND_LINES 11218 14699 *
HORIZONTAL_DATUM "NAD83" *
HORIZONTAL_COORDINATE_SYSTEM UTM *
COORDINATE_ZONE 10 *
HORIZONTAL_UNITS METERS *
HORIZONTAL_RESOLUTION 1.00 *
SECONDARY_HORIZONTAL_DATUM "NAD27" *
XY_ORIGIN 644064.498 4679535.503 *
SECONDARY_XY_ORIGIN 644159.552 4679337.628 *
NATION US *
STATE OR *
NW_QUAD_CORNER_XY 644364.360 4679016.642 *
NE_QUAD_CORNER_XY 654676.447 4679236.051 *
SE_QUAD_CORNER_XY 654981.589 4665356.247 *
SW_QUAD_CORNER_XY 644649.144 4665136.934 *
SECONDARY_NW_QUAD_XY 644368.362 4678802.758 *
SECONDARY_NE_QUAD_XY 654680.736 4679022.173 *
SECONDARY_SE_QUAD_XY 654985.873 4665142.556 *
SECONDARY_SW_QUAD_XY 644653.143 4664923.237 *
RMSE_XY 10.00 *
IMAGE_SOURCE "BLACK & WHITE FILM" *
SOURCE_IMAGE_ID "NAPP 12251-59" *
SOURCE_IMAGE_DATE 2000 7 25 *
SOURCE_IMAGE_ID "NAPP 12246-63" *
SOURCE_IMAGE_DATE 2000 7 23 *
SOURCE_IMAGE_ID "NAPP 12246-65" *
SOURCE_IMAGE_DATE 2000 7 23 *
SOURCE_IMAGE_ID "NAPP 12251-61" *
SOURCE_IMAGE_DATE 2000 7 25 *
SOURCE_DEM_DATE 1999 1 1 *
AGENCY "WESTERN MAPPING CENTER (WMC)" *
PRODUCER "USDA FS REGION 6" *
PRODUCTION_SYSTEM "PIXMAP V1.0 ON I386 LINUX" *
STANDARD_VERSION 1996 12 *
METADATA_DATE 2002 11 22 *
DATA_FILE_SIZE 164904600 *
BYTE_COUNT 11218 * CONTRACTOR "PIXXURES, INC." * * * * * * * * * * * * * * * * * * * * * * * * * * * * * * * * * * * * * * * * * * * * * * * * * * * * * * * * * * * * * * * * * * * * * * * * * * * * * * * * * * * * * * * * * * * *
END_USGS_HEADER *
