BEGIN_USGS_DOQ_HEADER *
QUADRANGLE_NAME "LORELLA" *
WEST_LONGITUDE -121 22 30.000 *
EAST_LONGITUDE -121 15 0.000 *
NORTH_LATITUDE 42 15 0.000 *
SOUTH_LATITUDE 42 7 30.000 *
PRODUCTION_DATE 2002 3 6 *
RASTER_ORDER LEFT_RIGHT/TOP_BOTTOM *
BAND_ORGANIZATION "SINGLE FILE" *
BAND_CONTENT BLACK&WHITE *
BITS_PER_PIXEL 8 *
SAMPLES_AND_LINES 11197 14684 *
HORIZONTAL_DATUM "NAD83" *
HORIZONTAL_COORDINATE_SYSTEM UTM *
COORDINATE_ZONE 10 *
HORIZONTAL_UNITS METERS *
HORIZONTAL_RESOLUTION 1.00 *
SECONDARY_HORIZONTAL_DATUM "NAD27" *
XY_ORIGIN 633752.496 4679316.506 *
SECONDARY_XY_ORIGIN 633847.400 4679118.712 *
NATION US *
STATE OR *
NW_QUAD_CORNER_XY 634052.339 4678812.375 *
NE_QUAD_CORNER_XY 644364.360 4679016.642 *
SE_QUAD_CORNER_XY 644649.144 4665136.934 *
SW_QUAD_CORNER_XY 634316.769 4664932.756 *
SECONDARY_NW_QUAD_XY 634056.056 4678598.485 *
SECONDARY_NE_QUAD_XY 644368.362 4678802.758 *
SECONDARY_SE_QUAD_XY 644653.143 4664923.237 *
SECONDARY_SW_QUAD_XY 634320.482 4664719.053 *
RMSE_XY 10.00 *
IMAGE_SOURCE "BLACK & WHITE FILM" *
SOURCE_IMAGE_ID "NAPP 12251-201" *
SOURCE_IMAGE_DATE 2000 7 25 *
SOURCE_IMAGE_ID "NAPP 12251-82" *
SOURCE_IMAGE_DATE 2000 7 25 *
SOURCE_IMAGE_ID "NAPP 12251-80" *
SOURCE_IMAGE_DATE 2000 7 25 *
SOURCE_IMAGE_ID "NAPP 12251-203" *
SOURCE_IMAGE_DATE 2000 7 25 *
SOURCE_DEM_DATE 1999 1 1 *
AGENCY "WESTERN MAPPING CENTER (WMC)" *
PRODUCER "USDA FS REGION 6" *
PRODUCTION_SYSTEM "PIXMAP V1.0 ON I386 LINUX" *
STANDARD_VERSION 1996 12 *
METADATA_DATE 2002 11 22 *
DATA_FILE_SIZE 164427945 *
BYTE_COUNT 11197 * CONTRACTOR "PIXXURES, INC." * * * * * * * * * * * * * * * * * * * * * * * * * * * * * * * * * * * * * * * * * * * * * * * * * * * * * * * * * * * * * * * * * * * * * * * * * * * * * * * * * * * * * * * * * * *
END_USGS_HEADER *
