BEGIN_USGS_DOQ_HEADER *
QUADRANGLE_NAME BONANZA *
WEST_LONGITUDE -121 30 00.000 *
EAST_LONGITUDE -121 22 30.000 *
NORTH_LATITUDE 042 15 00.00 *
SOUTH_LATITUDE 042 07 30.00 *
PRODUCTION_DATE 2003 08 04 *
RASTER_ORDER LEFT_RIGHT/TOP_BOTTOM *
BAND_ORGANIZATION "SINGLE FILE" *
BAND_CONTENT BLACK&WHITE *
BITS_PER_PIXEL 8 *
SAMPLES_AND_LINES 11268 14686 *
HORIZONTAL_DATUM NAD83 *
HORIZONTAL_COORDINATE_SYSTEM UTM *
COORDINATE_ZONE 10 *
HORIZONTAL_UNITS METERS *
HORIZONTAL_RESOLUTION 1.000 *
SECONDARY_HORIZONTAL_DATUM NAD27 *
XY_ORIGIN 623348.995 4679113.000 *
SECONDARY_XY_ORIGIN 623443.749 4678915.284 *
NATION US *
STATE OR *
NW_QUAD_CORNER_XY 623740.381 4678623.248 *
NE_QUAD_CORNER_XY 634052.339 4678812.375 *
SE_QUAD_CORNER_XY 634316.769 4664932.755 *
SW_QUAD_CORNER_XY 623984.459 4664743.711 *
SECONDARY_NW_QUAD_XY 623743.812 4678409.353 *
SECONDARY_NE_QUAD_XY 634056.056 4678598.485 *
SECONDARY_SE_QUAD_XY 634320.482 4664719.053 *
SECONDARY_SW_QUAD_XY 623987.886 4664530.003 *
RMSE_XY 1.59667 *
IMAGE_SOURCE "Black & White film" *
SOURCE_IMAGE_ID "NAPP 12251 222" *
SOURCE_IMAGE_DATE 2000 07 25 *
SOURCE_IMAGE_ID "NAPP 12251 224" *
SOURCE_IMAGE_DATE 2000 07 25 *
SOURCE_IMAGE_ID "NAPP 12252 027" *
SOURCE_IMAGE_DATE 2000 07 25 *
SOURCE_IMAGE_ID "NAPP 12252 029" *
SOURCE_IMAGE_DATE 2000 07 25 *
SOURCE_DEM_DATE 1999 12 01 *
AGENCY "Western Mapping Center (WMC)" *
PRODUCER "State of Oregon" *
PRODUCTION_SYSTEM "Pixmap v2.0 on i386 Linux" *
STANDARD_VERSION 1996 12 *
METADATA_DATE 2003 08 24 *
DATA_FILE_SIZE 165493116 *
BYTE_COUNT 11268 * USGS_GRID 4212153 * * * * * * * * * * * * * * * * * * * * * * * * * * * * * * * * * * * * * * * * * * * * * * * * * * * * * * * * * * * * * * * * * * * * * * * * * * * * * * * * * * * * * * * * * * * *
END_USGS_HEADER *
