BEGIN_USGS_DOQ_HEADER *
QUADRANGLE_NAME "BONANZA" 3.45 or 7.5-min. name*
QUADRANT SW quadrant indicator if cell size = 3.75-minutes*
WEST_LONGITUDE -121 30 0.000 signed deg min sec SDDD MM SS.SSS*
EAST_LONGITUDE -121 26 15.000 signed deg min sec SDDD MM SS.SSS*
NORTH_LATITUDE 42 11 15.000 signed deg min sec SDDD MM SS.SSS*
SOUTH_LATITUDE 42 7 30.000 signed deg min sec SDDD MM SS.SSS*
PRODUCTION_DATE 1996 4 1 yyyy mm dd*
RASTER_ORDER LEFT_RIGHT/TOP_BOTTOM video display order*
BAND_ORGANIZATION "SINGLE FILE" single file or BSQ, or BIL or BIP*
BAND_CONTENT BLACK&WHITE black&white or red green blue*
BITS_PER_PIXEL 8 radiometric resolution*
SAMPLES_AND_LINES 5980 7651 number of columns and rows*
HORIZONTAL_DATUM NAD83 primary horizontal datum*
HORIZONTAL_COORDINATE_SYSTEM UTM *
COORDINATE_ZONE 10 coordinate system zone number*
HORIZONTAL_UNITS METERS coordinate system units*
HORIZONTAL_RESOLUTION 1.00 pixel horiz. ground sample distance*
SECONDARY_HORIZONTAL_DATUM NAD27 secondary horizontal datum*
XY_ORIGIN 623470.000 4672077.000 coord. of upper left pixel pri. datum*
SECONDARY_XY_ORIGIN 623564.699 4671879.172 coord upper left pixel sec datum*
NATION US nation code*
STATE OR state fip code*
NW_QUAD_CORNER_XY 623862.494 4671683.444 XY coords. of pri. NW quad corner*
NE_QUAD_CORNER_XY 629024.318 4671776.095 XY coords. of pri. NE quad corner*
SE_QUAD_CORNER_XY 629150.606 4664836.342 XY coords. of pri. SE quad corner*
SW_QUAD_CORNER_XY 623984.459 4664743.711 XY coords. of pri. SW quad corner*
SECONDARY_NW_QUAD_XY 623865.923 4671469.642 XY coords. - sec. NW quad cor.*
SECONDARY_NE_QUAD_XY 629027.129 4671562.296 XY coords. - sec. NE quad cor.*
SECONDARY_SE_QUAD_XY 629154.176 4664622.637 XY coords. - sec. SE quad cor.*
SECONDARY_SW_QUAD_XY 623987.886 4664530.003 XY coords. - sec. SW quad cor.*
RMSE_XY 0.60 doq horiz. accuracy*
IMAGE_SOURCE "BLACK AND WHITE FILM" b&w, cir, natural color, other*
SOURCE_IMAGE_ID "NAPP 7115 106" source image id*
SOURCE_IMAGE_DATE 1994 7 20 source image date as yyyy mm dd*
SOURCE_DEM_DATE 1996 4 1 source dem date yyyy mm dd*
AGENCY "WESTERN MAPPING CENTER (WMC)" oversight agency*
PRODUCER "WMC" producer/contractor*
PRODUCTION_SYSTEM "DV2.6.3 10/9OV2.4 5/95" production system*
STANDARD_VERSION 1996 12 version of DOQ standard*
METADATA_DATE 1997 7 21 date created or changed, yyyy mm dd*
DATA_FILE_SIZE 45758960 data set size in bytes*
BYTE_COUNT 5980 header byte count* * * * * * * * * * * * * * * * * * * * * * * * * * * * * * * *
END_USGS_HEADER *
