BEGIN_USGS_DOQ_HEADER *
QUADRANGLE_NAME DAIRY *
WEST_LONGITUDE -121 37 30.000 *
EAST_LONGITUDE -121 30 00.000 *
NORTH_LATITUDE 042 15 00.00 *
SOUTH_LATITUDE 042 07 30.00 *
PRODUCTION_DATE 2003 08 01 *
RASTER_ORDER LEFT_RIGHT/TOP_BOTTOM *
BAND_ORGANIZATION "SINGLE FILE" *
BAND_CONTENT BLACK&WHITE *
BITS_PER_PIXEL 8 *
SAMPLES_AND_LINES 11249 14671 *
HORIZONTAL_DATUM NAD83 *
HORIZONTAL_COORDINATE_SYSTEM UTM *
COORDINATE_ZONE 10 *
HORIZONTAL_UNITS METERS *
HORIZONTAL_RESOLUTION 1.000 *
SECONDARY_HORIZONTAL_DATUM NAD27 *
XY_ORIGIN 613035.995 4678924.000 *
SECONDARY_XY_ORIGIN 613130.648 4678726.256 *
NATION US *
STATE OR *
NW_QUAD_CORNER_XY 613428.481 4678449.259 *
NE_QUAD_CORNER_XY 623740.381 4678623.248 *
SE_QUAD_CORNER_XY 623984.459 4664743.711 *
SW_QUAD_CORNER_XY 613652.209 4664569.797 *
SECONDARY_NW_QUAD_XY 613431.625 4678235.359 *
SECONDARY_NE_QUAD_XY 623743.812 4678409.353 *
SECONDARY_SE_QUAD_XY 623987.886 4664530.003 *
SECONDARY_SW_QUAD_XY 613655.351 4664356.085 *
RMSE_XY 1.43966 *
IMAGE_SOURCE "Black & White film" *
SOURCE_IMAGE_ID "NAPP 12252 149" *
SOURCE_IMAGE_DATE 2000 07 25 *
SOURCE_IMAGE_ID "NAPP 12252 151" *
SOURCE_IMAGE_DATE 2000 07 25 *
SOURCE_IMAGE_ID "NAPP 12285 135" *
SOURCE_IMAGE_DATE 2000 08 13 *
SOURCE_IMAGE_ID "NAPP 12285 137" *
SOURCE_IMAGE_DATE 2000 08 13 *
SOURCE_DEM_DATE 2000 03 09 *
AGENCY "Western Mapping Center (WMC)" *
PRODUCER "State of Oregon" *
PRODUCTION_SYSTEM "Pixmap v2.0 on i386 Linux" *
STANDARD_VERSION 1996 12 *
METADATA_DATE 2003 08 24 *
DATA_FILE_SIZE 165045328 *
BYTE_COUNT 11249 * USGS_GRID 4212152 * * * * * * * * * * * * * * * * * * * * * * * * * * * * * * * * * * * * * * * * * * * * * * * * * * * * * * * * * * * * * * * * * * * * * * * * * * * * * * * * * * * * * * * * * * * *
END_USGS_HEADER *
