BEGIN_USGS_DOQ_HEADER *
QUADRANGLE_NAME "DAIRY" 3.45 or 7.5-min. name*
QUADRANT SW quadrant indicator if cell size = 3.75-minutes*
WEST_LONGITUDE -121 37 30.000 signed deg min sec SDDD MM SS.SSS*
EAST_LONGITUDE -121 33 45.000 signed deg min sec SDDD MM SS.SSS*
NORTH_LATITUDE 42 11 15.000 signed deg min sec SDDD MM SS.SSS*
SOUTH_LATITUDE 42 7 30.000 signed deg min sec SDDD MM SS.SSS*
PRODUCTION_DATE 1996 3 29 yyyy mm dd*
RASTER_ORDER LEFT_RIGHT/TOP_BOTTOM video display order*
BAND_ORGANIZATION "SINGLE FILE" single file or BSQ, or BIL or BIP*
BAND_CONTENT BLACK&WHITE black&white or red green blue*
BITS_PER_PIXEL 8 radiometric resolution*
SAMPLES_AND_LINES 5972 7644 number of columns and rows*
HORIZONTAL_DATUM NAD83 primary horizontal datum*
HORIZONTAL_COORDINATE_SYSTEM UTM *
COORDINATE_ZONE 10 coordinate system zone number*
HORIZONTAL_UNITS METERS coordinate system units*
HORIZONTAL_RESOLUTION 1.00 pixel horiz. ground sample distance*
SECONDARY_HORIZONTAL_DATUM NAD27 secondary horizontal datum*
XY_ORIGIN 613148.000 4671896.000 coord. of upper left pixel pri. datum*
SECONDARY_XY_ORIGIN 613242.611 4671698.178 coord upper left pixel sec datum*
NATION US nation code*
STATE OR state fip code*
NW_QUAD_CORNER_XY 613541.174 4671509.492 XY coords. of pri. NW quad corner*
NE_QUAD_CORNER_XY 618702.208 4671594.577 XY coords. of pri. NE quad corner*
SE_QUAD_CORNER_XY 618819.088 4664654.965 XY coords. of pri. SE quad corner*
SW_QUAD_CORNER_XY 613652.198 4664569.797 XY coords. of pri. SW quad corner*
SECONDARY_NW_QUAD_XY 613543.556 4671295.686 XY coords. - sec. NW quad cor.*
SECONDARY_NE_QUAD_XY 618704.733 4671380.772 XY coords. - sec. NE quad cor.*
SECONDARY_SE_QUAD_XY 618821.611 4664441.153 XY coords. - sec. SE quad cor.*
SECONDARY_SW_QUAD_XY 613655.351 4664356.085 XY coords. - sec. SW quad cor.*
RMSE_XY 0.50 doq horiz. accuracy*
IMAGE_SOURCE "BLACK AND WHITE FILM" b&w, cir, natural color, other*
SOURCE_IMAGE_ID "NAPP 7113 067" source image id*
SOURCE_IMAGE_DATE 1994 7 14 source image date as yyyy mm dd*
SOURCE_DEM_DATE 1996 3 29 source dem date yyyy mm dd*
AGENCY "WESTERN MAPPING CENTER (WMC)" oversight agency*
PRODUCER "WMC" producer/contractor*
PRODUCTION_SYSTEM "DV2.6.3 10/9OV2.4 5/95" production system*
STANDARD_VERSION 1996 12 version of DOQ standard*
METADATA_DATE 1997 7 21 date created or changed, yyyy mm dd*
DATA_FILE_SIZE 45655940 data set size in bytes*
BYTE_COUNT 5972 header byte count* * * * * * * * * * * * * * * * * * * * * * * * * * * * * * * *
END_USGS_HEADER *
