BEGIN_USGS_DOQ_HEADER *
QUADRANGLE_NAME ALTAMONT *
WEST_LONGITUDE -121 45 00.000 *
EAST_LONGITUDE -121 37 30.000 *
NORTH_LATITUDE 042 15 00.00 *
SOUTH_LATITUDE 042 07 30.00 *
PRODUCTION_DATE 2003 07 31 *
RASTER_ORDER LEFT_RIGHT/TOP_BOTTOM *
BAND_ORGANIZATION "SINGLE FILE" *
BAND_CONTENT BLACK&WHITE *
BITS_PER_PIXEL 8 *
SAMPLES_AND_LINES 11229 14655 *
HORIZONTAL_DATUM NAD83 *
HORIZONTAL_COORDINATE_SYSTEM UTM *
COORDINATE_ZONE 10 *
HORIZONTAL_UNITS METERS *
HORIZONTAL_RESOLUTION 1.000 *
SECONDARY_HORIZONTAL_DATUM NAD27 *
XY_ORIGIN 602723.995 4678750.000 *
SECONDARY_XY_ORIGIN 602818.553 4678552.231 *
NATION US *
STATE OR *
NW_QUAD_CORNER_XY 603116.633 4678290.405 *
NE_QUAD_CORNER_XY 613428.481 4678449.259 *
SE_QUAD_CORNER_XY 613652.209 4664569.797 *
SW_QUAD_CORNER_XY 603320.014 4664411.013 *
SECONDARY_NW_QUAD_XY 603119.492 4678076.501 *
SECONDARY_NE_QUAD_XY 613431.625 4678235.359 *
SECONDARY_SE_QUAD_XY 613655.351 4664356.085 *
SECONDARY_SW_QUAD_XY 603322.870 4664197.297 *
RMSE_XY 2.13853 *
IMAGE_SOURCE "Black & White film" *
SOURCE_IMAGE_ID "NAPP 12252 170" *
SOURCE_IMAGE_DATE 2000 07 25 *
SOURCE_IMAGE_ID "NAPP 12252 172" *
SOURCE_IMAGE_DATE 2000 07 25 *
SOURCE_IMAGE_ID "NAPP 12259 019" *
SOURCE_IMAGE_DATE 2000 07 28 *
SOURCE_IMAGE_ID "NAPP 12259 021" *
SOURCE_IMAGE_DATE 2000 07 28 *
SOURCE_DEM_DATE 2000 03 09 *
AGENCY "Western Mapping Center (WMC)" *
PRODUCER "State of Oregon" *
PRODUCTION_SYSTEM "Pixmap v2.0 on i386 Linux" *
STANDARD_VERSION 1996 12 *
METADATA_DATE 2003 08 24 *
DATA_FILE_SIZE 164572224 *
BYTE_COUNT 11229 * USGS_GRID 4212151 * * * * * * * * * * * * * * * * * * * * * * * * * * * * * * * * * * * * * * * * * * * * * * * * * * * * * * * * * * * * * * * * * * * * * * * * * * * * * * * * * * * * * * * * * * * *
END_USGS_HEADER *
