BEGIN_USGS_DOQ_HEADER *
QUADRANGLE_NAME "ALTAMONT" 3.45 or 7.5-min. name*
QUADRANT SW quadrant indicator if cell size = 3.75-minutes*
WEST_LONGITUDE -121 45 0.000 signed deg min sec SDDD MM SS.SSS*
EAST_LONGITUDE -121 41 15.000 signed deg min sec SDDD MM SS.SSS*
NORTH_LATITUDE 42 11 15.000 signed deg min sec SDDD MM SS.SSS*
SOUTH_LATITUDE 42 7 30.000 signed deg min sec SDDD MM SS.SSS*
PRODUCTION_DATE 1996 3 26 yyyy mm dd*
RASTER_ORDER LEFT_RIGHT/TOP_BOTTOM video display order*
BAND_ORGANIZATION "SINGLE FILE" single file or BSQ, or BIL or BIP*
BAND_CONTENT BLACK&WHITE black&white or red green blue*
BITS_PER_PIXEL 8 radiometric resolution*
SAMPLES_AND_LINES 5960 7636 number of columns and rows*
HORIZONTAL_DATUM NAD83 primary horizontal datum*
HORIZONTAL_COORDINATE_SYSTEM UTM *
COORDINATE_ZONE 10 coordinate system zone number*
HORIZONTAL_UNITS METERS coordinate system units*
HORIZONTAL_RESOLUTION 1.00 pixel horiz. ground sample distance*
SECONDARY_HORIZONTAL_DATUM NAD27 secondary horizontal datum*
XY_ORIGIN 602826.000 4671729.000 coord. of upper left pixel pri. datum*
SECONDARY_XY_ORIGIN 602920.530 4671531.185 coord upper left pixel sec datum*
NATION US nation code*
STATE OR state fip code*
NW_QUAD_CORNER_XY 603219.146 4671350.673 XY coords. of pri. NW quad corner*
NE_QUAD_CORNER_XY 608380.154 4671428.191 XY coords. of pri. NE quad corner*
SE_QUAD_CORNER_XY 608486.105 4664488.514 XY coords. of pri. SE quad corner*
SW_QUAD_CORNER_XY 603323.820 4664411.014 XY coords. of pri. SW quad corner*
SECONDARY_NW_QUAD_XY 603221.243 4671136.862 XY coords. - sec. NW quad cor.*
SECONDARY_NE_QUAD_XY 608382.393 4671214.383 XY coords. - sec. NE quad cor.*
SECONDARY_SE_QUAD_XY 608489.104 4664274.800 XY coords. - sec. SE quad cor.*
SECONDARY_SW_QUAD_XY 603322.870 4664197.297 XY coords. - sec. SW quad cor.*
RMSE_XY 1.00 doq horiz. accuracy*
IMAGE_SOURCE "BLACK AND WHITE FILM" b&w, cir, natural color, other*
SOURCE_IMAGE_ID "NAPP 7109 117" source image id*
SOURCE_IMAGE_DATE 1994 7 14 source image date as yyyy mm dd*
SOURCE_DEM_DATE 1996 3 26 source dem date yyyy mm dd*
AGENCY "WESTERN MAPPING CENTER (WMC)" oversight agency*
PRODUCER "WMC" producer/contractor*
PRODUCTION_SYSTEM "DV2.6.3 10/9OV2.4 5/95" production system*
STANDARD_VERSION 1996 12 version of DOQ standard*
METADATA_DATE 1997 7 21 date created or changed, yyyy mm dd*
DATA_FILE_SIZE 45516520 data set size in bytes*
BYTE_COUNT 5960 header byte count* * * * * * * * * * * * * * * * * * * * * * * * * * * * * * * *
END_USGS_HEADER *
