BEGIN_USGS_DOQ_HEADER *
QUADRANGLE_NAME "KLAMATH FALLS" *
WEST_LONGITUDE -121 52 30.000 *
EAST_LONGITUDE -121 45 00.000 *
NORTH_LATITUDE 042 15 00.00 *
SOUTH_LATITUDE 042 07 30.00 *
PRODUCTION_DATE 2003 07 31 *
RASTER_ORDER LEFT_RIGHT/TOP_BOTTOM *
BAND_ORGANIZATION "SINGLE FILE" *
BAND_CONTENT BLACK&WHITE *
BITS_PER_PIXEL 8 *
SAMPLES_AND_LINES 11209 14640 *
HORIZONTAL_DATUM NAD83 *
HORIZONTAL_COORDINATE_SYSTEM UTM *
COORDINATE_ZONE 10 *
HORIZONTAL_UNITS METERS *
HORIZONTAL_RESOLUTION 1.000 *
SECONDARY_HORIZONTAL_DATUM NAD27 *
XY_ORIGIN 592411.995 4678591.000 *
SECONDARY_XY_ORIGIN 592506.686 4678393.275 *
NATION US *
STATE OR *
NW_QUAD_CORNER_XY 592804.833 4678146.686 *
NE_QUAD_CORNER_XY 603116.633 4678290.405 *
SE_QUAD_CORNER_XY 603320.014 4664411.013 *
SW_QUAD_CORNER_XY 592987.870 4664267.357 *
SECONDARY_NW_QUAD_XY 592807.406 4677932.778 *
SECONDARY_NE_QUAD_XY 603119.492 4678076.501 *
SECONDARY_SE_QUAD_XY 603322.870 4664197.297 *
SECONDARY_SW_QUAD_XY 592990.440 4664053.636 *
RMSE_XY 1.44724 *
IMAGE_SOURCE "Black & White film" *
SOURCE_IMAGE_ID "NAPP 12260 118" *
SOURCE_IMAGE_DATE 2000 07 28 *
SOURCE_IMAGE_ID "NAPP 12260 120" *
SOURCE_IMAGE_DATE 2000 07 28 *
SOURCE_IMAGE_ID "NAPP 12260 139" *
SOURCE_IMAGE_DATE 2000 07 28 *
SOURCE_IMAGE_ID "NAPP 12260 141" *
SOURCE_IMAGE_DATE 2000 07 28 *
SOURCE_DEM_DATE 2000 03 09 *
AGENCY "Western Mapping Center (WMC)" *
PRODUCER "State of Oregon" *
PRODUCTION_SYSTEM "Pixmap v2.0 on i386 Linux" *
STANDARD_VERSION 1996 12 *
METADATA_DATE 2003 08 24 *
DATA_FILE_SIZE 164110969 *
BYTE_COUNT 11209 * USGS_GRID 4212150 * * * * * * * * * * * * * * * * * * * * * * * * * * * * * * * * * * * * * * * * * * * * * * * * * * * * * * * * * * * * * * * * * * * * * * * * * * * * * * * * * * * * * * * * * * * *
END_USGS_HEADER *
