BEGIN_USGS_DOQ_HEADER *
QUADRANGLE_NAME "KLAMATH FALLS" 3.45 or 7.5-min. name*
QUADRANT NW quadrant indicator if cell size = 3.75-minutes*
WEST_LONGITUDE -121 52 30.000 signed deg min sec SDDD MM SS.SSS*
EAST_LONGITUDE -121 48 45.000 signed deg min sec SDDD MM SS.SSS*
NORTH_LATITUDE 42 15 0.000 signed deg min sec SDDD MM SS.SSS*
SOUTH_LATITUDE 42 11 15.000 signed deg min sec SDDD MM SS.SSS*
PRODUCTION_DATE 1996 3 26 yyyy mm dd*
RASTER_ORDER LEFT_RIGHT/TOP_BOTTOM video display order*
BAND_ORGANIZATION "SINGLE FILE" single file or BSQ, or BIL or BIP*
BAND_CONTENT BLACK&WHITE black&white or red green blue*
BITS_PER_PIXEL 8 radiometric resolution*
SAMPLES_AND_LINES 5944 7629 number of columns and rows*
HORIZONTAL_DATUM NAD83 primary horizontal datum*
HORIZONTAL_COORDINATE_SYSTEM UTM *
COORDINATE_ZONE 10 coordinate system zone number*
HORIZONTAL_UNITS METERS coordinate system units*
HORIZONTAL_RESOLUTION 1.00 pixel horiz. ground sample distance*
SECONDARY_HORIZONTAL_DATUM NAD27 secondary horizontal datum*
XY_ORIGIN 592412.000 4678518.000 coord. of upper left pixel pri. datum*
SECONDARY_XY_ORIGIN 592506.692 4678320.274 coord upper left pixel sec datum*
NATION US nation code*
STATE OR state fip code*
NW_QUAD_CORNER_XY 592804.833 4678146.686 XY coords. of pri. NW quad corner*
NE_QUAD_CORNER_XY 597960.727 4678216.654 XY coords. of pri. NE quad corner*
SE_QUAD_CORNER_XY 598057.390 4671276.938 XY coords. of pri. SE quad corner*
SW_QUAD_CORNER_XY 592896.407 4671206.985 XY coords. of pri. SW quad corner*
SECONDARY_NW_QUAD_XY 592807.406 4677932.778 XY coords. - sec. NW quad cor.*
SECONDARY_NE_QUAD_XY 597963.443 4678002.748 XY coords. - sec. NE quad cor.*
SECONDARY_SE_QUAD_XY 598060.105 4671063.125 XY coords. - sec. SE quad cor.*
SECONDARY_SW_QUAD_XY 592898.978 4670993.170 XY coords. - sec. SW quad cor.*
RMSE_XY 0.80 doq horiz. accuracy*
IMAGE_SOURCE "BLACK AND WHITE FILM" b&w, cir, natural color, other*
SOURCE_IMAGE_ID "NAPP 7191 182" source image id*
SOURCE_IMAGE_DATE 1994 8 29 source image date as yyyy mm dd*
SOURCE_DEM_DATE 1996 3 26 source dem date yyyy mm dd*
AGENCY "WESTERN MAPPING CENTER (WMC)" oversight agency*
PRODUCER "WMC" producer/contractor*
PRODUCTION_SYSTEM "DV2.6.3 10/9OV2.4 5/95" production system*
STANDARD_VERSION 1996 12 version of DOQ standard*
METADATA_DATE 1997 7 21 date created or changed, yyyy mm dd*
DATA_FILE_SIZE 45352720 data set size in bytes*
BYTE_COUNT 5944 header byte count* * * * * * * * * * * * * * * * * * * * * * * * * * * * * * * *
END_USGS_HEADER *
