BEGIN_USGS_DOQ_HEADER *
QUADRANGLE_NAME "KLAMATH FALLS" 3.45 or 7.5-min. name*
QUADRANT SE quadrant indicator if cell size = 3.75-minutes*
WEST_LONGITUDE -121 48 45.000 signed deg min sec SDDD MM SS.SSS*
EAST_LONGITUDE -121 45 0.000 signed deg min sec SDDD MM SS.SSS*
NORTH_LATITUDE 42 11 15.000 signed deg min sec SDDD MM SS.SSS*
SOUTH_LATITUDE 42 7 30.000 signed deg min sec SDDD MM SS.SSS*
PRODUCTION_DATE 1996 3 27 yyyy mm dd*
RASTER_ORDER LEFT_RIGHT/TOP_BOTTOM video display order*
BAND_ORGANIZATION "SINGLE FILE" single file or BSQ, or BIL or BIP*
BAND_CONTENT BLACK&WHITE black&white or red green blue*
BITS_PER_PIXEL 8 radiometric resolution*
SAMPLES_AND_LINES 5956 7633 number of columns and rows*
HORIZONTAL_DATUM NAD83 primary horizontal datum*
HORIZONTAL_COORDINATE_SYSTEM UTM *
COORDINATE_ZONE 10 coordinate system zone number*
HORIZONTAL_UNITS METERS coordinate system units*
HORIZONTAL_RESOLUTION 1.00 pixel horiz. ground sample distance*
SECONDARY_HORIZONTAL_DATUM NAD27 secondary horizontal datum*
XY_ORIGIN 597665.000 4671652.000 coord. of upper left pixel pri. datum*
SECONDARY_XY_ORIGIN 597759.603 4671454.213 coord upper left pixel sec datum*
NATION US nation code*
STATE OR state fip code*
NW_QUAD_CORNER_XY 598057.390 4671276.938 XY coords. of pri. NW quad corner*
NE_QUAD_CORNER_XY 603218.385 4671350.673 XY coords. of pri. NE quad corner*
SE_QUAD_CORNER_XY 603320.014 4664411.014 XY coords. of pri. SE quad corner*
SW_QUAD_CORNER_XY 598153.936 4664337.294 XY coords. of pri. SW quad corner*
SECONDARY_NW_QUAD_XY 598060.105 4671063.125 XY coords. - sec. NW quad cor.*
SECONDARY_NE_QUAD_XY 603221.243 4671136.862 XY coords. - sec. NE quad cor.*
SECONDARY_SE_QUAD_XY 603322.870 4664197.297 XY coords. - sec. SE quad cor.*
SECONDARY_SW_QUAD_XY 598156.649 4664123.576 XY coords. - sec. SW quad cor.*
RMSE_XY 1.10 doq horiz. accuracy*
IMAGE_SOURCE "BLACK AND WHITE FILM" b&w, cir, natural color, other*
SOURCE_IMAGE_ID "NAPP 7191 187" source image id*
SOURCE_IMAGE_DATE 1994 8 29 source image date as yyyy mm dd*
SOURCE_DEM_DATE 1996 3 27 source dem date yyyy mm dd*
AGENCY "WESTERN MAPPING CENTER (WMC)" oversight agency*
PRODUCER "WMC" producer/contractor*
PRODUCTION_SYSTEM "DV2.6.3 10/9OV2.4 5/95" production system*
STANDARD_VERSION 1996 12 version of DOQ standard*
METADATA_DATE 1997 7 21 date created or changed, yyyy mm dd*
DATA_FILE_SIZE 45468104 data set size in bytes*
BYTE_COUNT 5956 header byte count* * * * * * * * * * * * * * * * * * * * * * * * * * * * * * * *
END_USGS_HEADER *
