BEGIN_USGS_DOQ_HEADER *
QUADRANGLE_NAME KENO *
WEST_LONGITUDE -122 00 00.000 *
EAST_LONGITUDE -121 52 30.000 *
NORTH_LATITUDE 042 15 00.00 *
SOUTH_LATITUDE 042 07 30.00 *
PRODUCTION_DATE 2003 08 01 *
RASTER_ORDER LEFT_RIGHT/TOP_BOTTOM *
BAND_ORGANIZATION "SINGLE FILE" *
BAND_CONTENT BLACK&WHITE *
BITS_PER_PIXEL 8 *
SAMPLES_AND_LINES 11188 14625 *
HORIZONTAL_DATUM NAD83 *
HORIZONTAL_COORDINATE_SYSTEM UTM *
COORDINATE_ZONE 10 *
HORIZONTAL_UNITS METERS *
HORIZONTAL_RESOLUTION 1.000 *
SECONDARY_HORIZONTAL_DATUM NAD27 *
XY_ORIGIN 582099.995 4678447.000 *
SECONDARY_XY_ORIGIN 582194.818 4678249.318 *
NATION US *
STATE OR *
NW_QUAD_CORNER_XY 582493.076 4678018.100 *
NE_QUAD_CORNER_XY 592804.833 4678146.686 *
SE_QUAD_CORNER_XY 592987.870 4664267.357 *
SW_QUAD_CORNER_XY 582655.770 4664138.826 *
SECONDARY_NW_QUAD_XY 582495.363 4677804.188 *
SECONDARY_NE_QUAD_XY 592807.406 4677932.778 *
SECONDARY_SE_QUAD_XY 592990.440 4664053.636 *
SECONDARY_SW_QUAD_XY 582658.055 4663925.102 *
RMSE_XY 1.73455 *
IMAGE_SOURCE "Black & White film" *
SOURCE_IMAGE_ID "NAPP 12270 109" *
SOURCE_IMAGE_DATE 2000 08 05 *
SOURCE_IMAGE_ID "NAPP 12270 111" *
SOURCE_IMAGE_DATE 2000 08 05 *
SOURCE_IMAGE_ID "NAPP 12292 102" *
SOURCE_IMAGE_DATE 2001 07 13 *
SOURCE_IMAGE_ID "NAPP 12292 104" *
SOURCE_IMAGE_DATE 2001 07 13 *
SOURCE_DEM_DATE 2000 03 09 *
AGENCY "Western Mapping Center (WMC)" *
PRODUCER "State of Oregon" *
PRODUCTION_SYSTEM "Pixmap v2.0 on i386 Linux" *
STANDARD_VERSION 1996 12 *
METADATA_DATE 2003 08 24 *
DATA_FILE_SIZE 163635688 *
BYTE_COUNT 11188 * USGS_GRID 4212149 * * * * * * * * * * * * * * * * * * * * * * * * * * * * * * * * * * * * * * * * * * * * * * * * * * * * * * * * * * * * * * * * * * * * * * * * * * * * * * * * * * * * * * * * * * *
END_USGS_HEADER *
