BEGIN_USGS_DOQ_HEADER *
QUADRANGLE_NAME "PARKER MOUNTAIN" 3.45 or 7.5-min. name*
QUADRANT NE quadrant indicator if cell size = 3.75-minutes*
WEST_LONGITUDE -122 18 45.000 signed deg min sec SDDD MM SS.SSS*
EAST_LONGITUDE -122 15 0.000 signed deg min sec SDDD MM SS.SSS*
NORTH_LATITUDE 42 7 30.000 signed deg min sec SDDD MM SS.SSS*
SOUTH_LATITUDE 42 3 45.000 signed deg min sec SDDD MM SS.SSS*
PRODUCTION_DATE 1997 11 26 yyyy mm dd*
RASTER_ORDER left_right/top_bottom video display order*
BAND_ORGANIZATION "single file" single file or BSQ, or BIL or BIP*
BAND_CONTENT BLACK&WHITE black&white or red green blue*
BITS_PER_PIXEL 8 radiometric resolution*
SAMPLES_AND_LINES 5931 7610 number of columns and rows*
HORIZONTAL_DATUM NAD83 primary horizontal datum*
HORIZONTAL_COORDINATE_SYSTEM UTM *
COORDINATE_ZONE 10 coordinate system zone number*
HORIZONTAL_UNITS meters coordinate system units*
HORIZONTAL_RESOLUTION 1.00 pixel horiz. ground sample distance*
SECONDARY_HORIZONTAL_DATUM NAD27 secondary horizontal datum*
XY_ORIGIN 556427.000 4664233.000 coord. of upper left pixel pri. datum*
SECONDARY_XY_ORIGIN 556521.918 4664035.379 coord upper left pixel sec datum*
NATION US nation code*
STATE CA state fip code*
STATE OR state fip code*
NW_QUAD_CORNER_XY 556825.687 4663883.668 XY coords. of pri. NW quad corner*
NE_QUAD_CORNER_XY 561991.687 4663927.138 XY coords. of pri. NE quad corner*
SE_QUAD_CORNER_XY 562052.583 4656987.659 XY coords. of pri. SE quad corner*
SW_QUAD_CORNER_XY 556881.507 4656944.199 XY coords. of pri. SW quad corner*
SECONDARY_NW_QUAD_XY 556827.257 4663669.936 XY coords. - sec. NW quad cor.*
SECONDARY_NE_QUAD_XY 561993.401 4663713.408 XY coords. - sec. NE quad cor.*
SECONDARY_SE_QUAD_XY 562054.296 4656774.024 XY coords. - sec. SE quad cor.*
SECONDARY_SW_QUAD_XY 556883.077 4656730.562 XY coords. - sec. SW quad cor.*
RMSE_XY 1.87 doq horiz. accuracy*
IMAGE_SOURCE "BLACK AND WHITE FILM" b&w, cir, natural color, other*
SOURCE_IMAGE_ID "NAPP 6254-267" source image id*
SOURCE_IMAGE_DATE 1993 8 25 source image date as yyyy mm dd*
SOURCE_DEM_DATE 1997 2 1 source dem date yyyy mm dd*
AGENCY "WESTERN MAPPING CENTER (WMC)" oversight agency*
PRODUCER "WOOLPERT LLP" producer/contractor*
PRODUCTION_SYSTEM "INTERGRAPH ISPM, ISIR" production system*
STANDARD_VERSION 1996 12 version of DOQ standard*
METADATA_DATE 1997 11 26 date created or changed, yyyy mm dd*
DATA_FILE_SIZE 45140841 data set size in bytes*
BYTE_COUNT 5931 header byte count* * * * * * * * * * * * * * * * * * * * * * * * * * * * * * *
END_USGS_HEADER *
