BEGIN_USGS_DOQ_HEADER *
QUADRANGLE_NAME "SODA MOUNTAIN" *
WEST_LONGITUDE -122 30 00.000 *
EAST_LONGITUDE -122 22 30.000 *
NORTH_LATITUDE 042 07 30.00 *
SOUTH_LATITUDE 042 00 00.00 *
PRODUCTION_DATE 2003 03 13 *
RASTER_ORDER LEFT_RIGHT/TOP_BOTTOM *
BAND_ORGANIZATION "SINGLE FILE" *
BAND_CONTENT BLACK&WHITE *
BITS_PER_PIXEL 8 *
SAMPLES_AND_LINES 11129 14563 *
HORIZONTAL_DATUM NAD83 *
HORIZONTAL_COORDINATE_SYSTEM UTM *
COORDINATE_ZONE 10 *
HORIZONTAL_UNITS METERS *
HORIZONTAL_RESOLUTION 1.000 *
SECONDARY_HORIZONTAL_DATUM NAD27 *
XY_ORIGIN 540933.000 4664144.000 *
SECONDARY_XY_ORIGIN 541027.974 4663946.470 *
NATION US *
STATE CA *
STATE OR *
NW_QUAD_CORNER_XY 541327.724 4663775.939 *
NE_QUAD_CORNER_XY 551659.693 4663843.978 *
SE_QUAD_CORNER_XY 551761.123 4649965.133 *
SW_QUAD_CORNER_XY 541408.867 4649897.125 *
SECONDARY_NW_QUAD_XY 541328.867 4663562.204 *
SECONDARY_NE_QUAD_XY 551661.121 4663630.245 *
SECONDARY_SE_QUAD_XY 551762.549 4649751.591 *
SECONDARY_SW_QUAD_XY 541410.008 4649683.581 *
RMSE_XY 3.71296 *
IMAGE_SOURCE "Black & White film" *
SOURCE_IMAGE_ID "NAPP 12292 033" *
SOURCE_IMAGE_DATE 2001 07 13 *
SOURCE_IMAGE_ID "NAPP 12292 035" *
SOURCE_IMAGE_DATE 2001 07 13 *
SOURCE_IMAGE_ID "NAPP 12763 040" *
SOURCE_IMAGE_DATE 2001 07 14 *
SOURCE_IMAGE_ID "NAPP 12763 042" *
SOURCE_IMAGE_DATE 2001 07 14 *
SOURCE_DEM_DATE 1999 12 13 *
AGENCY "Western Mapping Center (WMC)" *
PRODUCER "State of Oregon" *
PRODUCTION_SYSTEM "Pixmap v2.0 on i386 Linux" *
STANDARD_VERSION 1996 12 *
METADATA_DATE 2003 03 22 *
DATA_FILE_SIZE 162082756 *
BYTE_COUNT 11129 * USGS_GRID 4212261 * * * * * * * * * * * * * * * * * * * * * * * * * * * * * * * * * * * * * * * * * * * * * * * * * * * * * * * * * * * * * * * * * * * * * * * * * * * * * * * * * * * * * * * * * *
END_USGS_HEADER *
